BEGIN:VCALENDAR
VERSION:2.0
PRODID:-//jEvents 2.0 for Joomla//EN
CALSCALE:GREGORIAN
METHOD:PUBLISH
BEGIN:VEVENT
UID:bbf32543c65697643936ec69782214d1
CATEGORIES:18. Bezirk
CREATED:20170829T135515
SUMMARY:Babymamas Kränzchen: Let's talk about sex, baby! 
LOCATION:Mukusal\, Staudgasse 26 - Ecke Martinstraße
DESCRIPTION:<p><span class="_4n-j fsl"><span class="text_exposed_show"></span></span></
 p><p> </p><p>Jeden Woche treffen wir uns zum Babymamas Kränzchen in dem bel
 iebten Krabbelcafé Mukusal im 18. Bezirk zu einem zweiten kleinen Frühstück
  in kleiner Runde. Wir freuen uns auf einen netten Austausch mit dir und vi
 elen Babymamas.</p><p>Nach einem gemütlichen Ankommen mit deinem Baby gibt 
 es Kaffee (wahlweise Tee oder Saft) und einen kleinen Snack. Julias Kuchen 
 schmecken immer ausgezeichnet. Manchmal serviert sie aber auch eine pikante
  Jause: egal ob Pizza oder Suppentopf - Hauptsache köstlich! Der Austausch 
 kommt dabei auch nicht zu kurz. Jede Woche begrüßen wir eine Gastexpertin, 
 die uns spannendes zu ihrem Thema erzählt und alle Fragen beantwortet. Es i
 st immer eine sehr nette Runde. Wir freuen uns auf euch! </p><p><span class
 ="_4n-j fsl"><span class="text_exposed_show"><br /><span style="color: #000
 000;"><strong>***NEU: AB NUN IMMER MONTAGS***</strong></span></span></span>
 </p><p> </p><p><span style="color: #800080;"><strong>23. Oktober: Let's tal
 k about sex, baby! / mit Sandra Teml-Jetter</strong></span></p><p>Leider is
 t das Thema Sex in unserer übersexualisierten Medienwelt immer noch ein Tab
 u, über das wir uns gemeinsam viel zu wenig konstruktiv austauschen! Vorall
 em viele Jungmamas klagen darüber, dass sie diesbezüglich "nichts mehr zu g
 eben hätten." Daraus muss ich schließen, dass viele Frauen Sex nicht mit Le
 bensfreude und nährender Intimität gleichsetzten, sondern mit Leistung asso
 ziieren und der Akt ein weiteres Ding auf der To-Do-Liste ist, das es abzua
 rbeiten gilt. Für den Mann - der sich dadurch oftmals in seiner Art, seine 
 Liebe auszudrücken, beschämt und zurückgestoßen fühlt.<strong><br /></stron
 g></p><div class="" data-block="true" data-editor="69fi9" data-offset-key="
 7st3a-0-0"><div class="_1mf _1mj" data-offset-key="7st3a-0-0"><span data-of
 fset-key="7st3a-0-0"> </span></div></div><div class="" data-block="true" da
 ta-editor="69fi9" data-offset-key="c3skh-0-0"><div class="_1mf _1mj" data-o
 ffset-key="c3skh-0-0"><span data-offset-key="c3skh-0-0">Dieses Gedankenkons
 trukt möchte Sandra mit euch an diesem Vormittag genauer betrachten - und h
 interfragen. Oder so, wie es kürzlich eine wunderbare Frau und mehrfache Mu
 tter formuliert hat: <em>"Ich bin überzeugt davon, dass Sex nicht nur aus T
 echnik oder dem Akt besteht, sondern dass es mehr eine Form von Hinwendung,
  Wahrnehmung des anderen, Hingabe, Bewusstsein,...ist!"</em></span></div></
 div><div class="" data-block="true" data-editor="69fi9" data-offset-key="1k
 8r6-0-0"><div class="_1mf _1mj" data-offset-key="1k8r6-0-0"><span data-offs
 et-key="1k8r6-0-0"> </span></div></div><div class="" data-block="true" data
 -editor="69fi9" data-offset-key="2p6ig-0-0"><div class="_1mf _1mj" data-off
 set-key="2p6ig-0-0"><span data-offset-key="2p6ig-0-0">Wie das (wieder) geli
 ngen kann - vom "Gnadenakt" zum </span>"Liebe machen" sozusagen - ist das T
 hema dieses Kränzchens.</div></div><div class="" data-block="true" data-edi
 tor="69fi9" data-offset-key="bppu3-0-0"><div class="_1mf _1mj" data-offset-
 key="bppu3-0-0"><span data-offset-key="bppu3-0-0"> </span></div></div><div 
 class="" data-block="true" data-editor="69fi9" data-offset-key="dh33l-0-0">
 <div class="_1mf _1mj" data-offset-key="dh33l-0-0"><em>"Sex ist die intimst
 e Form der Kommunikation.</em></div></div><div class="" data-block="true" d
 ata-editor="69fi9" data-offset-key="56h1o-0-0"><div class="_1mf _1mj" data-
 offset-key="56h1o-0-0"><em>Sexualität ist einer der größten Heilräume die w
 ir in unserem Leben haben weil sie uns in unsere tiefsten Körperregionen un
 d in die tiefste Verbindung mit einem anderen Menschen bringt. Wir finden ü
 ber unsere Körperempfindungen einem Zugang zu uns selbst, der unserem Intel
 lekt immer verschlossen bleiben wird. Deswegen kommen wir nirgendwo im Lebe
 n so nah an unsere Angst und an unsere Schattenseiten heran wie beim Sex." 
 (Eva-Maria Zurhost: Soul Sex)</em></div></div><div class="" data-block="tru
 e" data-editor="69fi9" data-offset-key="7uaf8-0-0"><div class="_1mf _1mj" d
 ata-offset-key="7uaf8-0-0"> </div></div><p><strong>Zu Gast: Sandra Teml-Jet
 ter</strong>, Einzel- & Paarcoach, familylab Eltern- & Familienberatung von
  der <a href="http://www.wertschaetzungszone.at/" target="_blank">Wertschät
 zungszone </a></p><p> </p><p><span class="_4n-j fsl"><span class="text_expo
 sed_show"><strong><span style="color: #800080;">Komm zum Babymamas Kränzche
 n!</span> <br /></strong>Immer Mittwochs von 10-13 Uhr im Mukusal, Staudgas
 se 26 - Ecke Martinstraße. <br />Es gibt Platz für Kinderwägen, aber damit 
 es nicht zu eng wird, komm bitte mit Trage(tuch).<br />Kosten für den Brunc
 h pro Person 16 Euro<br /></span></span></p><p> </p><p><span class="_4n-j f
 sl"><span class="text_exposed_show">Begrenzte Teilnehmerzahl (max. 10 Gäste
 ), Anmeldung erforderlich unter <a href="mailto:mukusal@mukusal.at">mukusal
 @mukusal.at</a></span></span></p><p><span class="_4n-j fsl"><span class="te
 xt_exposed_show"><br /><br /><strong>Alle Herbst/Winter Termine 2017 findes
 t du hier: </strong><a href="index.php/unterwegs-mit-baby/529-feiner-brunch
 -in-kleiner-mama-runde" target="_blank" rel="alternate">Feiner Plausch in k
 leiner Mama-Runde: das BABYMAMAS KRÄNZCHEN</a><br /></span></span></p>
X-ALT-DESC;FMTTYPE=text/html:<p><span class="_4n-j fsl"><span class="text_exposed_show"></span></span></
 p><p> </p><p>Jeden Woche treffen wir uns zum Babymamas Kränzchen in dem bel
 iebten Krabbelcafé Mukusal im 18. Bezirk zu einem zweiten kleinen Frühstück
  in kleiner Runde. Wir freuen uns auf einen netten Austausch mit dir und vi
 elen Babymamas.</p><p>Nach einem gemütlichen Ankommen mit deinem Baby gibt 
 es Kaffee (wahlweise Tee oder Saft) und einen kleinen Snack. Julias Kuchen 
 schmecken immer ausgezeichnet. Manchmal serviert sie aber auch eine pikante
  Jause: egal ob Pizza oder Suppentopf - Hauptsache köstlich! Der Austausch 
 kommt dabei auch nicht zu kurz. Jede Woche begrüßen wir eine Gastexpertin, 
 die uns spannendes zu ihrem Thema erzählt und alle Fragen beantwortet. Es i
 st immer eine sehr nette Runde. Wir freuen uns auf euch! </p><p><span class
 ="_4n-j fsl"><span class="text_exposed_show"><br /><span style="color: #000
 000;"><strong>***NEU: AB NUN IMMER MONTAGS***</strong></span></span></span>
 </p><p> </p><p><span style="color: #800080;"><strong>23. Oktober: Let's tal
 k about sex, baby! / mit Sandra Teml-Jetter</strong></span></p><p>Leider is
 t das Thema Sex in unserer übersexualisierten Medienwelt immer noch ein Tab
 u, über das wir uns gemeinsam viel zu wenig konstruktiv austauschen! Vorall
 em viele Jungmamas klagen darüber, dass sie diesbezüglich "nichts mehr zu g
 eben hätten." Daraus muss ich schließen, dass viele Frauen Sex nicht mit Le
 bensfreude und nährender Intimität gleichsetzten, sondern mit Leistung asso
 ziieren und der Akt ein weiteres Ding auf der To-Do-Liste ist, das es abzua
 rbeiten gilt. Für den Mann - der sich dadurch oftmals in seiner Art, seine 
 Liebe auszudrücken, beschämt und zurückgestoßen fühlt.<strong><br /></stron
 g></p><div class="" data-block="true" data-editor="69fi9" data-offset-key="
 7st3a-0-0"><div class="_1mf _1mj" data-offset-key="7st3a-0-0"><span data-of
 fset-key="7st3a-0-0"> </span></div></div><div class="" data-block="true" da
 ta-editor="69fi9" data-offset-key="c3skh-0-0"><div class="_1mf _1mj" data-o
 ffset-key="c3skh-0-0"><span data-offset-key="c3skh-0-0">Dieses Gedankenkons
 trukt möchte Sandra mit euch an diesem Vormittag genauer betrachten - und h
 interfragen. Oder so, wie es kürzlich eine wunderbare Frau und mehrfache Mu
 tter formuliert hat: <em>"Ich bin überzeugt davon, dass Sex nicht nur aus T
 echnik oder dem Akt besteht, sondern dass es mehr eine Form von Hinwendung,
  Wahrnehmung des anderen, Hingabe, Bewusstsein,...ist!"</em></span></div></
 div><div class="" data-block="true" data-editor="69fi9" data-offset-key="1k
 8r6-0-0"><div class="_1mf _1mj" data-offset-key="1k8r6-0-0"><span data-offs
 et-key="1k8r6-0-0"> </span></div></div><div class="" data-block="true" data
 -editor="69fi9" data-offset-key="2p6ig-0-0"><div class="_1mf _1mj" data-off
 set-key="2p6ig-0-0"><span data-offset-key="2p6ig-0-0">Wie das (wieder) geli
 ngen kann - vom "Gnadenakt" zum </span>"Liebe machen" sozusagen - ist das T
 hema dieses Kränzchens.</div></div><div class="" data-block="true" data-edi
 tor="69fi9" data-offset-key="bppu3-0-0"><div class="_1mf _1mj" data-offset-
 key="bppu3-0-0"><span data-offset-key="bppu3-0-0"> </span></div></div><div 
 class="" data-block="true" data-editor="69fi9" data-offset-key="dh33l-0-0">
 <div class="_1mf _1mj" data-offset-key="dh33l-0-0"><em>"Sex ist die intimst
 e Form der Kommunikation.</em></div></div><div class="" data-block="true" d
 ata-editor="69fi9" data-offset-key="56h1o-0-0"><div class="_1mf _1mj" data-
 offset-key="56h1o-0-0"><em>Sexualität ist einer der größten Heilräume die w
 ir in unserem Leben haben weil sie uns in unsere tiefsten Körperregionen un
 d in die tiefste Verbindung mit einem anderen Menschen bringt. Wir finden ü
 ber unsere Körperempfindungen einem Zugang zu uns selbst, der unserem Intel
 lekt immer verschlossen bleiben wird. Deswegen kommen wir nirgendwo im Lebe
 n so nah an unsere Angst und an unsere Schattenseiten heran wie beim Sex." 
 (Eva-Maria Zurhost: Soul Sex)</em></div></div><div class="" data-block="tru
 e" data-editor="69fi9" data-offset-key="7uaf8-0-0"><div class="_1mf _1mj" d
 ata-offset-key="7uaf8-0-0"> </div></div><p><strong>Zu Gast: Sandra Teml-Jet
 ter</strong>, Einzel- & Paarcoach, familylab Eltern- & Familienberatung von
  der <a href="http://www.wertschaetzungszone.at/" target="_blank">Wertschät
 zungszone </a></p><p> </p><p><span class="_4n-j fsl"><span class="text_expo
 sed_show"><strong><span style="color: #800080;">Komm zum Babymamas Kränzche
 n!</span> <br /></strong>Immer Mittwochs von 10-13 Uhr im Mukusal, Staudgas
 se 26 - Ecke Martinstraße. <br />Es gibt Platz für Kinderwägen, aber damit 
 es nicht zu eng wird, komm bitte mit Trage(tuch).<br />Kosten für den Brunc
 h pro Person 16 Euro<br /></span></span></p><p> </p><p><span class="_4n-j f
 sl"><span class="text_exposed_show">Begrenzte Teilnehmerzahl (max. 10 Gäste
 ), Anmeldung erforderlich unter <a href="mailto:mukusal@mukusal.at">mukusal
 @mukusal.at</a></span></span></p><p><span class="_4n-j fsl"><span class="te
 xt_exposed_show"><br /><br /><strong>Alle Herbst/Winter Termine 2017 findes
 t du hier: </strong><a href="https://babymamas.at/index.php/unterwegs-mit-b
 aby/529-feiner-brunch-in-kleiner-mama-runde" target="_blank" rel="alternate
 ">Feiner Plausch in kleiner Mama-Runde: das BABYMAMAS KRÄNZCHEN</a><br /></
 span></span></p>
CONTACT:http://www.babymamas.at/index.php/unterwegs-mit-baby/529-feiner-brunch-in-kleiner-mama-runde (http://www.babymamas.at/index.php/unterwegs-mit-baby/529-feiner-brunch-in-kleiner-mama-runde)
X-EXTRAINFO:[preis='1600'][anmeldung='true']
DTSTAMP:20260424T215936
DTSTART:20171023T080000
DTEND:20171023T110000
SEQUENCE:0
TRANSP:OPAQUE
END:VEVENT
END:VCALENDAR