BEGIN:VCALENDAR
VERSION:2.0
PRODID:-//jEvents 2.0 for Joomla//EN
CALSCALE:GREGORIAN
METHOD:PUBLISH
BEGIN:VEVENT
UID:cbae95b999475a13222f1721355751b7
CATEGORIES:6. Bezirk
CREATED:19700101T010000
SUMMARY:Eltern-Baby-Spielgruppe
LOCATION:Die Hebamme in Wien\, 6.\, Haydngasse 21
DESCRIPTION: Herzlich willkommen bei unserer Elter-Baby-Spielgruppe. Eingeladen sind fr
 isch gebackene Eltern, Eltern mit Krabbelkindern und neugierige Schwangere 
 die sich gerne noch Tipps für die erste Zeit mit Baby  holen möchten.\nBei 
 jedem Treffen biete ich altersgerechte Materialien für die Kinder in Form e
 iner vorbereiteten Umgebung, Singspiele, Lieder- und Fingerspiele.  Dazwisc
 hen ist genügend Zeit um sich auszutauschen, gemütlich zu plaudern sowie So
 rgen und Freuden zu teilen.\nTermin: immer Mittwochs von 10:00 Uhr bis 11:0
 0 Uhr\nKosten: 20 Euro pro Einheit oder 180 Euro für den 10er Block\nDer Ei
 nstieg ist jederzeit möglich!\nDie 10er Blöcke können für all unsere Kurse 
 (gleicher Preis) wie Fit for 2, Rückbildungsgymnastik oder Babytreff eingel
 öst werden und sind ab Auststellungsdatum ein Jahr gültig und übertragbar.\
 n
X-ALT-DESC;FMTTYPE=text/html:<h1> </h1><p>Herzlich willkommen bei unserer Elter-Baby-Spielgruppe. Eingel
 aden sind frisch gebackene Eltern, Eltern mit Krabbelkindern und neugierige
  Schwangere die sich gerne noch Tipps für die erste Zeit mit Baby  holen mö
 chten.</p><p style="margin-bottom: 8px; font-size: 11px; line-height: norma
 l; font-family: 'Trebuchet MS';">Bei jedem Treffen biete ich altersgerechte
  Materialien für die Kinder in Form einer vorbereiteten Umgebung, Singspiel
 e, Lieder- und Fingerspiele.  Dazwischen ist genügend Zeit um sich auszutau
 schen, gemütlich zu plaudern sowie Sorgen und Freuden zu teilen.</p><p styl
 e="margin-bottom: 8px; font-size: 11px; line-height: normal; font-family: '
 Trebuchet MS';"><strong>Termin:</strong> immer Mittwochs von 10:00 Uhr bis 
 11:00 Uhr</p><p style="margin-bottom: 8px; font-size: 11px; line-height: no
 rmal; font-family: 'Trebuchet MS';"><strong>Kosten: 20 Euro pro Einheit ode
 r 180 Euro für den 10er Block</strong></p><p style="margin-bottom: 8px; fon
 t-size: 11px; line-height: normal; font-family: 'Trebuchet MS';"><strong>De
 r Einstieg ist jederzeit möglich!</strong></p><p>Die 10er Blöcke können für
  all unsere Kurse (gleicher Preis) wie Fit for 2, Rückbildungsgymnastik ode
 r Babytreff eingelöst werden und sind ab Auststellungsdatum ein Jahr gültig
  und übertragbar.</p>
CONTACT:office@diehebammeinwien.at
X-EXTRAINFO:[preis='2000'][anmeldung='true']
DTSTAMP:20260423T211416
DTSTART:20171011T080000
DTEND:20171011T090000
SEQUENCE:0
RRULE:FREQ=WEEKLY;UNTIL=20191012T000000Z;INTERVAL=1;BYDAY=WE
TRANSP:OPAQUE
END:VEVENT
END:VCALENDAR