BEGIN:VCALENDAR
VERSION:2.0
PRODID:-//jEvents 2.0 for Joomla//EN
CALSCALE:GREGORIAN
METHOD:PUBLISH
BEGIN:VEVENT
UID:453c88d675d84754a642a05a4a392be2
CATEGORIES:8. Bezirk
CREATED:20171107T190743
SUMMARY:Vorsicht Bildschirm! Warum Huckleberry Finn und Pipi Langstrumpf nicht (smartphone-)süchtig wurden
LOCATION:EKIZ Wien\, Piaristengasse 32\, 1080 Wien
DESCRIPTION:<p><span style="font-size: 12pt; text-decoration: underline;">Vortragende:<
 /span><br /><span style="font-size: 14pt;"><strong>Mag. Brigitte Wysoudil-D
 obrowsky </strong></span><br /><span style="font-size: 14pt;">Pädagogin, di
 pl. Lernberaterin, praktische Pädagogin, Mutter von drei Kindern</span></p>
 <p> </p><p>Ohne Computer, Smartphone und Internet geht heute gar nichts.<br
  />Kinder und Jugendliche verbringen heute mit digitalen Medien im Durchsch
 nitt doppelt so viel Zeit wie in der Schule.</p><p><br />Was könnte das bei
  intensiver Nutzung für das Gehirn und die Gehirnentwicklung unserer Kinder
  und Jugendlichen bedeuten!?<br />Sind Sprach- und Lernstörungen, Aufmerksa
 mkeitsdefizite, Stress, Depressionen und zunehmende Gewaltbereitschaft viel
 leicht eine Folge davon!?<br /><br />Die Medizin und die Gehirnforschung ze
 igen eine besorgniserregende Entwicklung auf. Ist das wirklich so?</p><p> <
 /p><p><span style="font-size: 12pt; text-decoration: underline;">Themen:</s
 pan><br /><strong>In diesem Seminar wollen wir folgenden Themen auf den Gru
 nd gehen</strong>:<br />Zahlen und Fakten<br />Die Alpha-Welt und die Beta-
 Welt - Primärerfahrungen eines Kindes, Gehirnentwicklung<br />Die normale E
 ntwicklung der Wahrnehmung<br />Bildschirm-Mechanismen<br />Mögliche Auswir
 kungen des Fernsehens &amp; Co auf die kindliche Entwicklung<br />Bildschir
 m-Krankheitsbilder und mögliche Folgeschäden bei übermäßigen Fernseh- und C
 omputerkonsum<br />konkrete Möglichkeiten einer Suchtprävention<br />Richti
 ger Umgang mit Fernsehen, DVD, Tablet, Smartphone, Gameboy, PC und Internet
 </p><p> </p><p>Kurstermin: Fr, 05. Mai 2023, 15-18 Uhr</p><p>Kursbetrag: 48
  €</p><p> </p>
CONTACT:https://www.elternkindzentrum.com/veranstaltungen/vortraege/63/suchtpraevention-warum-huckleberry-finn-und-pipi-langstru
X-EXTRAINFO:[preis='4800'][anmeldung='true']
DTSTAMP:20260423T095932
DTSTART:20230505T130000
DTEND:20230505T160000
SEQUENCE:0
TRANSP:OPAQUE
END:VEVENT
END:VCALENDAR