BEGIN:VCALENDAR
VERSION:2.0
PRODID:-//jEvents 2.0 for Joomla//EN
CALSCALE:GREGORIAN
METHOD:PUBLISH
BEGIN:VEVENT
UID:7199cd82be71a590a424111f4e2e9697
CATEGORIES:21. Bezirk
CREATED:19700101T010000
SUMMARY:Zwergerlstunde 2 (Spielgruppe für Babys von 6 bis 12 Monaten)
LOCATION:Seminarraum der Apotheke 21 (Kürschnergasse 1a\, 1210 WIen)
DESCRIPTION:<p>Für dein Baby gibt es in der Zwergerlstunde verschiedene Materialien zum
  Erforschen und Entdecken, zum Ertasten und Begreifen. Außerdem werden wir 
 mit den kleinen Zwergerln alterangepasste Spiele (Kniereiter-, Versteck-, H
 opse-, Fangspiele, usw.) machen, Lieder singen, Reime sprechen und ihnen di
 e Möglichkeit zur Kontaktaufnahme zu Gleichaltrigen und anderen Erwachsenen
  bieten.</p><p>Wir werden auch gemeinsam Malereien und Basteleien mit deine
 m Zwergerl herstellen.</p>
CONTACT:https://www.zwergerlparadies.at/kursangebot/kreative-spielgruppen/zwergerlstunde-2/
X-EXTRAINFO:[preis='13400'][anmeldung='true']
DTSTAMP:20260423T193754
DTSTART:20180112T081000
DTEND:20180112T090000
SEQUENCE:0
RRULE:FREQ=WEEKLY;UNTIL=20190126T000000Z;INTERVAL=1;BYDAY=FR
TRANSP:OPAQUE
END:VEVENT
END:VCALENDAR