BEGIN:VCALENDAR
VERSION:2.0
PRODID:-//jEvents 2.0 for Joomla//EN
CALSCALE:GREGORIAN
METHOD:PUBLISH
BEGIN:VEVENT
UID:088c99953a9992f8fec0a1103ebb4457
CATEGORIES:5. Bezirk
CREATED:19700101T010000
SUMMARY:Super Mom #Frühling 
LOCATION:Bruno-Kreisky-Park\, 1050 Wien
DESCRIPTION:<div class="_1MCQI" data-hook="description">Kennst du das Gefühl? Seit du M
 utter bist, dreht sich alles um Kind(er), Familie, Haushalt, Erledigungen, 
 Job, … Zeit für dich selbst oder Sport bleibt da selten. Und wenn fällt es 
 dir oft schwer, dich alleine zu motivieren. Mit Super Mom holst du dir den 
 Sport zurück in deinen Alltag! Be strong, be super mom!</div><div class="_1
 MCQI" data-hook="description"> </div><div class="_1MCQI" data-hook="descrip
 tion"><strong>Sichere dir jetzt einen Platz beim Super Mom-Training! </stro
 ng></div><ul><li><strong>Start</strong>: Montag, 5. März 2018</li><li>maxim
 al 10 Teilnehmerinnen, geschlossene Gruppe (Anmeldung vorab erforderlich)</
 li><li><strong>Dauer</strong>: 8 Wochen - keine Vertragsbindung; 3 Training
 s pro Woche à 60 Minuten</li><li><strong>Zeit</strong>: Mo, Mi und Fr von 6
 :00 – 7:00 Uhr früh</li><li><strong>Ort</strong>: Bruno-Kreisky-Park, 1050 
 Wien</li><li><strong>Inhalt</strong>: intensives, auf die Teilnehmerinnen a
 bgestimmtes, Outdoortraining, Ausdauer- und Krafttraining, Anamnese und Abs
 timmung des Trainingsplans auf die Teilnehmerinnen </li></ul><div class="_7
 fcdR" data-hook="separator"><strong>Anmeldung und Infos</strong>: <a href="
 http://www.project-you.fitness">www.project-you.fitness</a> (unter Online b
 uchen - Gruppendienstleistungen)</div><div class="_7fcdR" data-hook="separa
 tor"> </div><div class="LajKD" data-hook="business-info"><div class="_3GBx3
 " data-hook="title"><strong>Ihr habt noch Fragen? </strong></div><div class
 ="_3Vm6z"><div data-hook="phone-data">Karin: <span data-hook="phone">+43664
 3032557</span></div><div data-hook="email-data"><span data-hook="email">kar
 in@project-you.fitness</span></div></div></div>
CONTACT:Karin: +43 664 3032557, karin@project-you.fitness
X-EXTRAINFO:[preis='23900'][anmeldung='true']
DTSTAMP:20260424T145004
DTSTART:20180430T070000
DTEND:20180430T080000
SEQUENCE:0
RRULE:FREQ=WEEKLY;COUNT=8;INTERVAL=8;BYDAY=MO
TRANSP:OPAQUE
END:VEVENT
END:VCALENDAR