BEGIN:VCALENDAR
VERSION:2.0
PRODID:-//jEvents 2.0 for Joomla//EN
CALSCALE:GREGORIAN
METHOD:PUBLISH
BEGIN:VEVENT
UID:ab466b253d14876aa5bedd1ca4528ecb
CATEGORIES:15. Bezirk
CREATED:19700101T010000
SUMMARY:Baby Fußabdrücke auf Keramik 
LOCATION:Paint your Style - Wien 15
DESCRIPTION:<p>Und so funktionierst:</p><p>Wir bieten dir regelmäßige Termine, damit Du
  bei uns in aller Ruhe, außerhalb der Öffnungszeiten und mit professionelle
 r Hilfe schöne Babyfußabdrücke auf die Keramik zaubern kannst.</p><p>Fuß un
 d Handabdrücke sind eine bleibende Erinnerung und noch dazu eine schöne Ges
 chenks Idee.</p><p> </p><p>Unsere Babytage sind jeweils in der Zeit von 10-
 12 Uhr. Gerne kannst Du dir einen Termin unter 01/ 786 06 77 oder per Mail:
  <a href="mailto:wien15@paintyourstyle.at">wien15@paintyourstyle.at</a> res
 ervieren. Natürlich kannst du auch ohne Anmeldung nachmittags zum Füßchen s
 tempeln kommen.</p><p> </p><p>Wir freuen uns auf Dich und Dein Baby!! Achja
  und die Farben bei uns sind bleifrei, völlig ungiftig und lassen sich prob
 lemlos von Händen und Kleidung abwaschen.</p>
CONTACT:wien15@paintyourstyle.at
DTSTAMP:20260425T155936
DTSTART:20180228T110000
DTEND:20180228T180000
SEQUENCE:0
RRULE:FREQ=WEEKLY;COUNT=12;INTERVAL=1;BYDAY=WE,WE,WE,WE,WE
TRANSP:OPAQUE
END:VEVENT
END:VCALENDAR