BEGIN:VCALENDAR
VERSION:2.0
PRODID:-//jEvents 2.0 for Joomla//EN
CALSCALE:GREGORIAN
METHOD:PUBLISH
BEGIN:VEVENT
UID:063df79331916eee183637bb3b0cde81
CATEGORIES:22. Bezirk
CREATED:19700101T010000
SUMMARY:Pikler SpielRaum 6-14 Monate
LOCATION:VHS Bernoullistraße 1\, 1220 Wien
DESCRIPTION:Im Pikler SpielRaum finden die Kinder eine vorbereitet Umgebung, in der sie
  spielen, forschen, klettern, balancieren, entdecken, lernen, ausruhen, kus
 cheln, sich selbst ausdrücken, beobachten, essen und trinken, gemeinsame Sa
 che machen, selber entscheiden und vieles mehr dürfen. Kinder sind von klei
 n auf kompetent, brauchen aber einen sicheren Rahmen und die Führung der El
 tern.\nDie Pikler SpielRaum Leiterin begleitet die Kinder und Eltern mit ei
 ner ganzheitlichen Haltung. Der Kurs besteht aus 15 Vormittagen und 6 Abend
  Termine nur für Eltern. Da haben alle Fragen und Themen Platz, die sich au
 s einem respektvollen Zusammenleben in der Familie ergeben.\nAm 6.9. 2018 u
 m 10:30 wird ein kostenloser Schnupper SpielRaum angeboten. Nur mit vorheri
 ger Anmeldung möglich!\nDer Einführungsvortrag, der für SpielRaum Eltern ve
 rpflichtend ist, kann auch als Einzelvortrag besucht werden. Am 10.9. 2018 
 von 19:00-21:00, auch hier ist eine Anmeldung erforderlich.\nAnmeldung ab J
 uli bitte bei der VHS unter +43 1 891 74-122 000\n \n
X-ALT-DESC;FMTTYPE=text/html:<p>Im Pikler SpielRaum finden die Kinder eine vorbereitet Umgebung, in der 
 sie spielen, forschen, klettern, balancieren, entdecken, lernen, ausruhen, 
 kuscheln, sich selbst ausdrücken, beobachten, essen und trinken, gemeinsame
  Sache machen, selber entscheiden und vieles mehr dürfen. Kinder sind von k
 lein auf kompetent, brauchen aber einen sicheren Rahmen und die Führung der
  Eltern.</p><p>Die Pikler SpielRaum Leiterin begleitet die Kinder und Elter
 n mit einer ganzheitlichen Haltung. Der Kurs besteht aus 15 Vormittagen und
  6 Abend Termine nur für Eltern. Da haben alle Fragen und Themen Platz, die
  sich aus einem respektvollen Zusammenleben in der Familie ergeben.</p><p>A
 m 6.9. 2018 um 10:30 wird ein kostenloser Schnupper SpielRaum angeboten. Nu
 r mit vorheriger Anmeldung möglich!</p><p>Der Einführungsvortrag, der für S
 pielRaum Eltern verpflichtend ist, kann auch als Einzelvortrag besucht werd
 en. Am 10.9. 2018 von 19:00-21:00, auch hier ist eine Anmeldung erforderlic
 h.</p><p>Anmeldung ab Juli bitte bei der VHS unter +43 1 891 74-122 000</p>
 <p> </p>
CONTACT:www.spielraum-ag.at
X-EXTRAINFO:[preis='33080'][anmeldung='true']
DTSTAMP:20260423T152719
DTSTART:20180919T083000
DTEND:20180919T100000
SEQUENCE:0
RRULE:FREQ=WEEKLY;UNTIL=20190117T000000Z;INTERVAL=1;BYDAY=WE
TRANSP:OPAQUE
END:VEVENT
END:VCALENDAR