BEGIN:VCALENDAR
VERSION:2.0
PRODID:-//jEvents 2.0 for Joomla//EN
CALSCALE:GREGORIAN
METHOD:PUBLISH
BEGIN:VEVENT
UID:43c28273cb40cccfab7a74424be99ef4
CATEGORIES:8. Bezirk
CREATED:19700101T010000
SUMMARY:Kuschelkäfer
LOCATION:Musisches Zentrum Wien
DESCRIPTION:<p><strong>Ein Kurs für Allerkleinste ab 6 Monaten</strong> <strong>mit ein
 er Vertrauensperson</strong></p><p>Klänge spüren, Musik lauschen, Rhythmen 
 erleben: Gemeinsam mit Ihnen entdeckt Ihr Baby verschiedene Geräusche, Mate
 rialien und Instrumente. Kunst bringt Wohlbefinden. Genießen Sie zusammen m
 it Ihrem Kind bereichernde Momente!</p><p><strong>250,- Euro </strong>I 50m
 in, 1x wtl., 28x<br />Mo 14.00-14.50 Uhr<br />Kursleiterin: <strong>Antonia
  Sigl</strong></p><p><strong>Musisches Zentrum Wien<br /></strong>Zeltgasse
  7, 1080 Wien<br />01 408 32 50<br /><a href="http://www.musisches-zentrum.
 at">www.musisches-zentrum.at</a><br /><a href="http://www.facebook.com/musi
 sches.zentrum.wien">www.facebook.com/musisches.zentrum.wien</a></p><p> </p>
 <p> </p><p> </p><p> </p><p> </p><p> </p><p> </p>
CONTACT:musisches-zentrum@jugendzentren.at
X-EXTRAINFO:[preis='25000'][anmeldung='true']
DTSTAMP:20260424T151006
DTSTART:20181001T120000
DTEND:20181001T125000
SEQUENCE:0
RRULE:FREQ=WEEKLY;UNTIL=20190521T000000Z;INTERVAL=28;BYDAY=MO
TRANSP:OPAQUE
END:VEVENT
END:VCALENDAR