BEGIN:VCALENDAR
VERSION:2.0
PRODID:-//jEvents 2.0 for Joomla//EN
CALSCALE:GREGORIAN
METHOD:PUBLISH
BEGIN:VEVENT
UID:5d85c5aa4f8b12c40efee6e3d9329455
CATEGORIES:8. Bezirk
CREATED:20180723T212558
SUMMARY:Mawiba - Mama Baby Tanz - Schnupperstunde  1080
LOCATION:Studio 8\, Florianigasse 16\, 1080 Wien
DESCRIPTION:Liebe Babymamas, liebe Babypapas, liebe Babys!\nKommt zur ersten Mawiba - M
 ama Baby Tanz - Schnupperstunde im 8ten Bezirk.\n\nMAWIBA ist ein Tanzkonze
 pt für Mamas und ihre Babys, ein sanfter Einstieg um nach der Geburt wieder
  aktiv zu werden. Während die Mamas zu beckenbodenstärkenden Choreografien 
 tanzen und dabei ihre Haltung und Fitness verbessern, kuscheln sich die Bab
 ys in einer Tragehilfe an sie. Gemeinsam mit einem erfahrenen Expertenteam 
 entwickelt, bietet MAWIBA spezielle Choreografien zur Beckenbodenstärkung u
 nd Verbesserung der Körperhaltung.\n\nWo? Im Studio 8, Florianigasse 16, 10
 80 Wien\n\nWann? Am 20.09.2018, um 15 Uhr tanzen wir los.\n(Die meisten Bab
 ys schlafen während des Tanzens ein. Kann also auch als Pause fürs Baby ein
 geplant werden.)\n\n\nKurskosten: € 5,00 (diese Schnupperstunde ist Teil de
 r Babymama Aktivwochen und daher vergünstigt. Bitte in Anmerkungen "Babymam
 as.at" angeben.)\n\nFragen &amp; Anmeldung unter \nmwaldbauer.mtn@gmail.com
  oder 0664/75522859 oder www.mawiba.net (http://www.mawiba.net) (Kurse aus 
 1080 suchen)\n\n\nIch freue mich Euch kennenzulernen!\nBis dann,\nEure\nMel
 a\n
X-ALT-DESC;FMTTYPE=text/html:<p style="text-align: left;"><strong>Liebe Babymamas, liebe Babypapas, lieb
 e Babys!</strong><br />Kommt zur ersten Mawiba - Mama Baby Tanz - Schnupper
 stunde im 8ten Bezirk.<br /><br />MAWIBA ist ein Tanzkonzept für Mamas und 
 ihre Babys, ein sanfter Einstieg um nach der Geburt wieder aktiv zu werden.
  Während die Mamas zu beckenbodenstärkenden Choreografien tanzen und dabei 
 ihre Haltung und Fitness verbessern, kuscheln sich die Babys in einer Trage
 hilfe an sie. Gemeinsam mit einem erfahrenen Expertenteam entwickelt, biete
 t MAWIBA spezielle Choreografien zur Beckenbodenstärkung und Verbesserung d
 er Körperhaltung.<br /><br /><strong>Wo? Im Studio 8, Florianigasse 16, 108
 0 Wien</strong><br /><br /><strong>Wann? Am 20.09.2018, um 15 Uhr tanzen wi
 r los.</strong><br />(Die meisten Babys schlafen während des Tanzens ein. K
 ann also auch als Pause fürs Baby eingeplant werden.)<br /><br /></p><p><st
 rong>Kurskosten</strong><i>: € 5,00 (diese Schnupperstunde ist Teil der Bab
 ymama Aktivwochen und daher vergünstigt. Bitte in Anmerkungen "Babymamas.at
 " angeben.)</i></p><p><br /><strong>Fragen &amp; Anmeldung</strong><i> unte
 r </i><br /><i>mwaldbauer.mtn@gmail.com oder 0664/75522859 oder <a href="ht
 tp://www.mawiba.net">www.mawiba.net</a> (Kurse aus 1080 suchen)</i></p><p s
 tyle="text-align: center;"><br /><br />Ich freue mich Euch kennenzulernen!<
 br />Bis dann,<br />Eure<br /><strong>Mela</strong></p>
CONTACT:Fragen &amp; Anmeldung unter  mwaldbauer.mtn@gmail.com oder 0664/75522859 oder www.mawiba.net (Kurse aus 1080 suchen)
X-EXTRAINFO:[preis='1000'][anmeldung='true']
DTSTAMP:20260424T152257
DTSTART:20190920T130000
DTEND:20190920T140000
SEQUENCE:0
TRANSP:OPAQUE
END:VEVENT
END:VCALENDAR