BEGIN:VCALENDAR
VERSION:2.0
PRODID:-//jEvents 2.0 for Joomla//EN
CALSCALE:GREGORIAN
METHOD:PUBLISH
BEGIN:VEVENT
UID:26bde6eb17b6a3a8fb63c1a825a1f36e
CATEGORIES:18. Bezirk
CREATED:20170213T113159
SUMMARY:Englisch für Kinder und Kleinkinder - was ist sinnvoll?
LOCATION:Therapiezentrum Gersthof\, Klostergasse 31- 33\, 1180 Wien
DESCRIPTION:Unsere Gesellschaft ist schon lange mehrsprachig und der Alltag vieler Mens
 chen ist es auch. Kommunikation ist global geworden und setzt sich über geo
 grafische Grenzen und Sprachbarrieren hinweg. Diese Tatsache wirkt sich auc
 h auf den Arbeitsmarkt aus. Gefragt sind junge Menschen, die viele Sprachen
  auf sehr hohem Niveau sprechen, daher bemühen sich viele Eltern, dass ihre
  Kinder eine sehr hohe Kompetenz in einer oder mehreren Fremdsprachen errei
 chen. Englisch ist dabei mit Abstand die Nummer eins.\n\n - Aber ab welchem
  Alter soll das Kind mit Englischkursen anfangen?\n - Gibt es ein zu früh u
 nd ein zu spät?\n - Und was kann man dabei an Lerneffekten erwarten?\n - We
 lche ist dabei die Rolle der Eltern?Ein sehr breites Angebot am Englischkur
 sen, Spielgruppen, bilingualen Kindergärten und Kinderkruppen macht es Elte
 rn nicht leicht eine Entscheidung zu treffen – was ist dabei das Beste für 
 MEIN Kind und für die Erwartungen der eignen Familie. Und worauf kommt es b
 ei der Wahl des Englischangebotes an?\nAuf diese und weitere Fragen geht de
 r Workshop ein und lässt Raum für Deine individuellen Fragen und Wünsche.\n
 Anmeldung: Mag. Zwetelina Ortega: z.ortega@linguamulti.at (mailto:z.ortega@
 linguamulti.at) oder 0676 9669 775\nPreis: 29 Euro p.P., 49 Euro für Paare 
 oder zwei FreundInnen. Der Preis inkludiert: Handout und Fotoprotokoll\nBab
 ys bis 6 Monate können gerne beim Workshop dabei sein. \nBegrenzte Teilnehm
 erzahl: max. 12 Personen \n
X-ALT-DESC;FMTTYPE=text/html:<p>Unsere Gesellschaft ist schon lange mehrsprachig und der Alltag vieler M
 enschen ist es auch. Kommunikation ist global geworden und setzt sich über 
 geografische Grenzen und Sprachbarrieren hinweg. Diese Tatsache wirkt sich 
 auch auf den Arbeitsmarkt aus. Gefragt sind junge Menschen, die viele Sprac
 hen auf sehr hohem Niveau sprechen, daher bemühen sich viele Eltern, dass i
 hre Kinder eine sehr hohe Kompetenz in einer oder mehreren Fremdsprachen er
 reichen. Englisch ist dabei mit Abstand die Nummer eins.</p><ul><li>Aber ab
  welchem Alter soll das Kind mit Englischkursen anfangen?</li><li>Gibt es e
 in zu früh und ein zu spät?</li><li>Und was kann man dabei an Lerneffekten 
 erwarten?</li><li>Welche ist dabei die Rolle der Eltern?</li></ul><p>Ein se
 hr breites Angebot am Englischkursen, Spielgruppen, bilingualen Kindergärte
 n und Kinderkruppen macht es Eltern nicht leicht eine Entscheidung zu treff
 en – was ist dabei das Beste für MEIN Kind und für die Erwartungen der eign
 en Familie. Und worauf kommt es bei der Wahl des Englischangebotes an?</p><
 p>Auf diese und weitere Fragen geht der Workshop ein und lässt Raum für Dei
 ne individuellen Fragen und Wünsche.</p><p><strong>Anmeldung:</strong> Mag.
  Zwetelina Ortega: <a href="mailto:z.ortega@linguamulti.at">z.ortega@lingua
 multi.at</a> oder 0676 9669 775</p><p><strong>Preis:</strong> 29 Euro p.P.,
  49 Euro für Paare oder zwei FreundInnen. Der Preis inkludiert: Handout und
  Fotoprotokoll</p><p><strong>Babys bis 6 Monate können gerne beim Workshop 
 dabei sein. </strong></p><p><strong>Begrenzte Teilnehmerzahl: max. 12 Perso
 nen </strong></p>
CONTACT:http://www.linguamulti.at/kontakt/ (http://www.linguamulti.at/kontakt/)
X-EXTRAINFO:[preis='2900'][anmeldung='true']
DTSTAMP:20260425T011353
DTSTART:20170310T160000
DTEND:20170310T180000
SEQUENCE:0
TRANSP:OPAQUE
END:VEVENT
END:VCALENDAR