BEGIN:VCALENDAR
VERSION:2.0
PRODID:-//jEvents 2.0 for Joomla//EN
CALSCALE:GREGORIAN
METHOD:PUBLISH
BEGIN:VEVENT
UID:9378ab6d0b93aaf2d1797db6799cf3b4
CATEGORIES:9. Bezirk
CREATED:19700101T010000
SUMMARY:Schwangeren YOGA - RAUM für NEUES
LOCATION:RAUM für NEUES\, Fuchsthallergasse 11/29. 1090 Wien
DESCRIPTION:<p>JEDEN DONNERSTAG 16:30-18:00</p><p>RAUM für NEUES, Fuchsthallergasse 11/
 29, 1090 Wien</p><p>16€/Einheit, 140€ 10er Block</p><p>Yoga hilft jeder Fra
 u auf unterschiedliche Weise. Jede Schwangerschaft und Mutterschaft ist and
 ers, und jede Frau reagiert auf ihre Weise auf die Praxis des Yoga. Nimm di
 r deshalb genügend Zeit, um herauszufinden, was Spaß macht und was den größ
 ten Nutzen bringt. Dich selbst, deinen Körper und seine Reaktion zu versteh
 en, wird dir helfen, deine eigene Praxis aufzubauen.<span class="Apple-conv
 erted-space"> </span></p><p><span class="Apple-converted-space">Mehr Inform
 ation:</span></p><p><span class="Apple-converted-space">www.be-in-touch.at/
 yoga</span></p>
CONTACT:www.be-in-touch.at/yoga
X-EXTRAINFO:[preis='1600'][anmeldung='true']
DTSTAMP:20260425T120624
DTSTART:20180913T143000
DTEND:20180913T160000
SEQUENCE:0
RRULE:FREQ=WEEKLY;COUNT=9999;INTERVAL=1;BYDAY=TH,TH,TH,TH,TH
TRANSP:OPAQUE
END:VEVENT
END:VCALENDAR