BEGIN:VCALENDAR
VERSION:2.0
PRODID:-//jEvents 2.0 for Joomla//EN
CALSCALE:GREGORIAN
METHOD:PUBLISH
BEGIN:VEVENT
UID:b8e4ff90b17e97986a05ac8fecd9420c
CATEGORIES:6. Bezirk
CREATED:19700101T010000
SUMMARY:Biolino - Sinnesspielgruppe (für 10 - 24 Monate)
LOCATION:Sandwirtgasse 13/12
DESCRIPTION:Die Sinnesspielgruppe ist für Kinder von 10 bis 24 Monaten. Beim Spielen un
 d Experimentieren mit unterschiedlichen Materialien aus Holz, Stoff, Kork, 
 Porzellan und vielem mehr, werden alle Sinne deines Kindes angesprochen. Wi
 r hören, riechen, schmecken, tasten, sehen und bewegen uns durch den Sinnes
 raum, der in jeder Einheit neue Anregungen bereit hält. So wird spielerisch
  die gesamte Entwicklung deines Kindes gefördert und es kann in seinem Temp
 o die Welt entdecken. \nDu kannst diese Spielgruppe mit der Biolino-Blockka
 rte (https://bit.ly/2PuEK3w) besuchen. Einfach eine Blockkarte  (https://bi
 t.ly/2PuEK3w)kaufen und alle Spielgruppen, die in unserem Stundenplan  (htt
 ps://bit.ly/2wH40Mb)mit einem Herz gekennzeichnet sind besuchen.\nBis bald 
 im Biolino Institut (http://www.biolino.at),\nMartina\n
X-ALT-DESC;FMTTYPE=text/html:<p>Die <strong>Sinnesspielgruppe</strong><b> </b>ist für Kinder von <strong
 >10 bis 24 Monaten</strong>. Beim Spielen und Experimentieren mit unterschi
 edlichen Materialien aus Holz, Stoff, Kork, Porzellan und vielem mehr, werd
 en alle Sinne deines Kindes angesprochen. Wir hören, riechen, schmecken, ta
 sten, sehen und bewegen uns durch den Sinnesraum, der in jeder Einheit neue
  Anregungen bereit hält. So wird spielerisch die gesamte Entwicklung deines
  Kindes gefördert und es kann in seinem Tempo die Welt entdecken. </p><p>Du
  kannst diese Spielgruppe mit der <a href="https://bit.ly/2PuEK3w">Biolino-
 Blockkarte</a> besuchen. Einfach eine <a href="https://bit.ly/2PuEK3w">Bloc
 kkarte </a>kaufen und alle Spielgruppen, die in unserem <a href="https://bi
 t.ly/2wH40Mb">Stundenplan </a>mit einem Herz gekennzeichnet sind besuchen.<
 /p><p>Bis bald im <a href="http://www.biolino.at">Biolino Institut</a>,</p>
 <p>Martina</p>
CONTACT:martina.novak@biolino.at
X-EXTRAINFO:[preis='1500'][anmeldung='true']
DTSTAMP:20260423T194931
DTSTART:20180920T090000
DTEND:20180920T100000
SEQUENCE:0
RRULE:FREQ=WEEKLY;COUNT=9999;INTERVAL=1;BYDAY=TH,TH,TH,TH,TH
EXDATE:20181101T100000,20181227T100000,20190103T100000
TRANSP:OPAQUE
END:VEVENT
END:VCALENDAR