BEGIN:VCALENDAR
VERSION:2.0
PRODID:-//jEvents 2.0 for Joomla//EN
CALSCALE:GREGORIAN
METHOD:PUBLISH
BEGIN:VEVENT
UID:bbb37c5c19a457db92d508658ca0ea33
CATEGORIES:6. Bezirk
CREATED:19700101T010000
SUMMARY:offenes Baby-Cafe
LOCATION:Sandwirtgasse 13/12
DESCRIPTION:<p><strong>Biolino Baby- und Familien-Cafe</strong></p><p><strong>Bei richt
 ig gutem Fair-Trade-Kaffee und leckerem Bio-Kuchen kannst du dich entspannt
  zurücklehnen, deinem Kind beim Spielen in unseren übersichtlichen, kinders
 icheren Räumlichkeiten zusehen und mit anderen Mamas und Papas plaudern.</s
 trong></p><p>Wir laden dich und dein Kind montags und freitags in unser Bio
 lino Baby-Café ein. Bei biologischem Fair-Trade Kaffee, auf Wunsch auch kof
 feinfrei oder mit Pflanzenmilch, leckerem veganen Bio-Kuchen und österreich
 ischen Bio-Fruchtsäften lässt es sich besonders gut plaudern und spielen. W
 ir achten bei der Auswahl unserer Holzspielsachen darauf, dass sie frei von
  Schadstoffen sind und nutzen Bio-Bambus Geschirr von Biobu.</p><p>Auf <a h
 ref="http://www.biolino.at/baby-cafe">www.biolino.at/baby-cafe</a> findest 
 du aktuellen Termine!</p><p>Jeden Montag und Freitag - Außer in den Schulfe
 rien!</p><p>Keine Anmeldung erforderlich!</p><p>Unkostenbeitrag 5€ pro Fami
 lie</p><p>Wir haben Platz für 8 - 10 Kinderwägen. Bei gutem Wetter kannst d
 u auch im geschützen Innenhof parken. Wenn es dir möglich ist, komme gerne 
 mit deiner Tragehilfe - so haben wir alle mehr Platz zum Wohlfühlen. <br />
 Vielen lieben Dank!</p><p>Wir freuen uns auf deinen Besuch!</p><p>Martina &
 amp; das Biolino Team</p>
CONTACT:martina.novak@biolino.at
X-EXTRAINFO:[preis='500'][anmeldung='false']
DTSTAMP:20260423T182834
DTSTART:20190111T080000
DTEND:20190111T110000
SEQUENCE:0
RRULE:FREQ=WEEKLY;UNTIL=20190202T000000Z;INTERVAL=1;BYDAY=FR,FR,FR,FR,FR
TRANSP:OPAQUE
END:VEVENT
END:VCALENDAR