BEGIN:VCALENDAR
VERSION:2.0
PRODID:-//jEvents 2.0 for Joomla//EN
CALSCALE:GREGORIAN
METHOD:PUBLISH
BEGIN:VEVENT
UID:10983532acf7c31832c58157815c8681
CATEGORIES:16. Bezirk
CREATED:20180906T204001
SUMMARY:Spirituelle Vorbereitung auf die Geburt
LOCATION:16. Bezirk\, Wien
DESCRIPTION:<p><strong>Spirituelle Geburtsvorbereitung</strong><br /><br />"The heart o
 f the mother is the greatest power of infinity ever given to any finite bei
 ng."<br />- Yogi Bhajan<br /><br /><strong>Ein Kurs mit 5 Modulen</strong><
 br /><br />1. Modul:<br />- die Trimester der Schwnagerschaft<br />- die ei
 genen Geburtsvorstellungen<br />- Übung für Durchhaltevermögen und innere S
 tabilität<br />- Kreatives: Geburtskarten<br />- Atemtechnik: langer tiefer
  Atem<br />- Meditation: Kirtan Kriya<br /><br />2. Modul:<br />- Phasen de
 r Geburt und was hilft mir in welcher Phase<br />- Affirmationen für Schwan
 gerschaft, Geburt und Wochenbett<br />- Geburtsaltar<br />- Kreatives: Gebu
 rtsmandalas<br />- Atemtechnik: Wechselseite Atmung<br />- Meditation: Adi 
 Shakti<br /><br />3. Modul:<br />- Die Gebärmutter und Wehen<br />- Die wic
 htigesten Hormone<br />- Der Beckenboden<br />- Kreatives: Geburtskette<br 
 />- Atemtechnik: Singen, Klang, Tönen<br />- Meditation: Puta Mata Ki Asees
 <br /><br />4. Modul:<br />- Partnereinheit: Aufgabe des Partners/der Partn
 erin<br />- Geburtsplan und Geburtstasche<br />- Interventionen während der
  Geburt<br />- Geburtspositionen<br />- Massagetechniken und Reflexpunkte<b
 r />- Meditation: Ra Ma Da Sa<br /><br />5. Modul:<br />- Erlernen einiger 
 einfacher Baby Massage Techniken<br />- 40 Tage nach der Geburt<br />- Plaz
 enta<br />- Nabenschnur<br />- Kreatives: Geburtskerze<br />- Meditation: A
 rdas Bhai<br /><br /><strong>Termine und Kosten</strong><br />5x 2,5 Stunde
 n<br />€ 180 inkl. Handouts<br />21.11, 23.11, 28.11, 30.11, 12.12<br />jew
 eils 17.00 - 19.30 Uhr im 16. Bezirk<br /><br /><strong>Kontakt und Anmeldu
 ng</strong><br />Julika Balprem<br /><a href="mailto:julika.balprem@yahoo.c
 om">julika.balprem@yahoo.com</a></p><p>0043 699 18060281<br /><br /><strong
 >Anmerkung:</strong><br />Dieser Kurs ersetzt keinen medizinischen klassisc
 hen Geburtsvorbereitungskurs und widmet sich dem Thema Schwangerschaft, Geb
 urt und Wochenbett von der spirituellen und intuitiven Seite.</p>
CONTACT:julika.balprem@yahoo.com
X-EXTRAINFO:[preis='18000'][anmeldung='true']
DTSTAMP:20260425T134952
DTSTART:20190107T160000
DTEND:20190107T183000
SEQUENCE:0
TRANSP:OPAQUE
END:VEVENT
END:VCALENDAR