BEGIN:VCALENDAR
VERSION:2.0
PRODID:-//jEvents 2.0 for Joomla//EN
CALSCALE:GREGORIAN
METHOD:PUBLISH
BEGIN:VEVENT
UID:b05ab36599ab4dfb719a645022c6928c
CATEGORIES:16. Bezirk
CREATED:20180906T204101
SUMMARY:Spirituelle Vorbereitung auf die Geburt
LOCATION:16. Bezirk\, Wien
DESCRIPTION:<p><strong>Spirituelle Geburtsvorbereitung</strong><br /><br />"The heart o
 f the mother is the greatest power of infinity ever given to any finite bei
 ng."<br />- Yogi Bhajan<br /><br /><strong>Ein Kurs mit 5 Modulen</strong><
 br /><br />1. Modul:<br />- die Trimester der Schwnagerschaft<br />- die ei
 genen Geburtsvorstellungen<br />- Übung für Durchhaltevermögen und innere S
 tabilität<br />- Kreatives: Geburtskarten<br />- Atemtechnik: langer tiefer
  Atem<br />- Meditation: Kirtan Kriya<br /><br />2. Modul:<br />- Phasen de
 r Geburt und was hilft mir in welcher Phase<br />- Affirmationen für Schwan
 gerschaft, Geburt und Wochenbett<br />- Geburtsaltar<br />- Kreatives: Gebu
 rtsmandalas<br />- Atemtechnik: Wechselseite Atmung<br />- Meditation: Adi 
 Shakti<br /><br />3. Modul:<br />- Die Gebärmutter und Wehen<br />- Die wic
 htigesten Hormone<br />- Der Beckenboden<br />- Kreatives: Geburtskette<br 
 />- Atemtechnik: Singen, Klang, Tönen<br />- Meditation: Puta Mata Ki Asees
 <br /><br />4. Modul:<br />- Partnereinheit: Aufgabe des Partners/der Partn
 erin<br />- Geburtsplan und Geburtstasche<br />- Interventionen während der
  Geburt<br />- Geburtspositionen<br />- Massagetechniken und Reflexpunkte<b
 r />- Meditation: Ra Ma Da Sa<br /><br />5. Modul:<br />- Erlernen einiger 
 einfacher Baby Massage Techniken<br />- 40 Tage nach der Geburt<br />- Plaz
 enta<br />- Nabenschnur<br />- Kreatives: Geburtskerze<br />- Meditation: A
 rdas Bhai<br /><br /><strong>Termine und Kosten</strong><br />5x 2,5 Stunde
 n<br />€ 180 inkl. Handouts<br />7.1., 14.1., 21.1., 28.1., 4.2.2019<br />j
 eweils 17.00 - 19.30 Uhr im 16. Bezirk<br /><br /><strong>Kontakt und Anmel
 dung</strong><br />Julika Balprem<br /><a href="mailto:julika.balprem@yahoo
 .com">julika.balprem@yahoo.com</a></p><p>0043 699 18060281<br /><br /><stro
 ng>Anmerkung:</strong><br />Dieser Kurs ersetzt keinen medizinischen klassi
 schen Geburtsvorbereitungskurs und widmet sich dem Thema Schwangerschaft, G
 eburt und Wochenbett von der spirituellen und intuitiven Seite.</p>
CONTACT:julika.balprem@yahoo.com
X-EXTRAINFO:[preis='18000'][anmeldung='true']
DTSTAMP:20260425T101946
DTSTART:20190114T160000
DTEND:20190114T183000
SEQUENCE:0
TRANSP:OPAQUE
END:VEVENT
END:VCALENDAR