BEGIN:VCALENDAR
VERSION:2.0
PRODID:-//jEvents 2.0 for Joomla//EN
CALSCALE:GREGORIAN
METHOD:PUBLISH
BEGIN:VEVENT
UID:f11a616b07960d50286a2892d86320a2
CATEGORIES:16. Bezirk
CREATED:20180906T204159
SUMMARY:Spirituelle Vorbereitung auf die Geburt
LOCATION:16. Bezirk\, Wien
DESCRIPTION:Spirituelle Geburtsvorbereitung\n\n"The heart of the mother is the greatest
  power of infinity ever given to any finite being."\n- Yogi Bhajan\n\nEin K
 urs mit 5 Modulen\n\n1. Modul:\n- die Trimester der Schwnagerschaft\n- die 
 eigenen Geburtsvorstellungen\n- Übung für Durchhaltevermögen und innere Sta
 bilität\n- Kreatives: Geburtskarten\n- Atemtechnik: langer tiefer Atem\n- M
 editation: Kirtan Kriya\n\n2. Modul:\n- Phasen der Geburt und was hilft mir
  in welcher Phase\n- Affirmationen für Schwangerschaft, Geburt und Wochenbe
 tt\n- Geburtsaltar\n- Kreatives: Geburtsmandalas\n- Atemtechnik: Wechselsei
 te Atmung\n- Meditation: Adi Shakti\n\n3. Modul:\n- Die Gebärmutter und Weh
 en\n- Die wichtigesten Hormone\n- Der Beckenboden\n- Kreatives: Geburtskett
 e\n- Atemtechnik: Singen, Klang, Tönen\n- Meditation: Puta Mata Ki Asees\n\
 n4. Modul:\n- Partnereinheit: Aufgabe des Partners/der Partnerin\n- Geburts
 plan und Geburtstasche\n- Interventionen während der Geburt\n- Geburtsposit
 ionen\n- Massagetechniken und Reflexpunkte\n- Meditation: Ra Ma Da Sa\n\n5.
  Modul:\n- Erlernen einiger einfacher Baby Massage Techniken\n- 40 Tage nac
 h der Geburt\n- Plazenta\n- Nabenschnur\n- Kreatives: Geburtskerze\n- Medit
 ation: Ardas Bhai\n\nTermine und Kosten\n5x 2,5 Stunden\n€ 180 inkl. Handou
 ts\n7.1., 14.1., 21.1., 28.1., 4.2.2019\njeweils 17.00 - 19.30 Uhr im 16. B
 ezirk\n\nKontakt und Anmeldung\nJulika Balprem\njulika.balprem@yahoo.com (m
 ailto:julika.balprem@yahoo.com)\n0043 699 18060281\n\nAnmerkung:\nDieser Ku
 rs ersetzt keinen medizinischen klassischen Geburtsvorbereitungskurs und wi
 dmet sich dem Thema Schwangerschaft, Geburt und Wochenbett von der spiritue
 llen und intuitiven Seite.\n
X-ALT-DESC;FMTTYPE=text/html:<p><strong>Spirituelle Geburtsvorbereitung</strong><br /><br />"The heart o
 f the mother is the greatest power of infinity ever given to any finite bei
 ng."<br />- Yogi Bhajan<br /><br /><strong>Ein Kurs mit 5 Modulen</strong><
 br /><br />1. Modul:<br />- die Trimester der Schwnagerschaft<br />- die ei
 genen Geburtsvorstellungen<br />- Übung für Durchhaltevermögen und innere S
 tabilität<br />- Kreatives: Geburtskarten<br />- Atemtechnik: langer tiefer
  Atem<br />- Meditation: Kirtan Kriya<br /><br />2. Modul:<br />- Phasen de
 r Geburt und was hilft mir in welcher Phase<br />- Affirmationen für Schwan
 gerschaft, Geburt und Wochenbett<br />- Geburtsaltar<br />- Kreatives: Gebu
 rtsmandalas<br />- Atemtechnik: Wechselseite Atmung<br />- Meditation: Adi 
 Shakti<br /><br />3. Modul:<br />- Die Gebärmutter und Wehen<br />- Die wic
 htigesten Hormone<br />- Der Beckenboden<br />- Kreatives: Geburtskette<br 
 />- Atemtechnik: Singen, Klang, Tönen<br />- Meditation: Puta Mata Ki Asees
 <br /><br />4. Modul:<br />- Partnereinheit: Aufgabe des Partners/der Partn
 erin<br />- Geburtsplan und Geburtstasche<br />- Interventionen während der
  Geburt<br />- Geburtspositionen<br />- Massagetechniken und Reflexpunkte<b
 r />- Meditation: Ra Ma Da Sa<br /><br />5. Modul:<br />- Erlernen einiger 
 einfacher Baby Massage Techniken<br />- 40 Tage nach der Geburt<br />- Plaz
 enta<br />- Nabenschnur<br />- Kreatives: Geburtskerze<br />- Meditation: A
 rdas Bhai<br /><br /><strong>Termine und Kosten</strong><br />5x 2,5 Stunde
 n<br />€ 180 inkl. Handouts<br />7.1., 14.1., 21.1., 28.1., 4.2.2019<br />j
 eweils 17.00 - 19.30 Uhr im 16. Bezirk<br /><br /><strong>Kontakt und Anmel
 dung</strong><br />Julika Balprem<br /><a href="mailto:julika.balprem@yahoo
 .com">julika.balprem@yahoo.com</a></p><p>0043 699 18060281<br /><br /><stro
 ng>Anmerkung:</strong><br />Dieser Kurs ersetzt keinen medizinischen klassi
 schen Geburtsvorbereitungskurs und widmet sich dem Thema Schwangerschaft, G
 eburt und Wochenbett von der spirituellen und intuitiven Seite.</p>
CONTACT:julika.balprem@yahoo.com
X-EXTRAINFO:[preis='18000'][anmeldung='true']
DTSTAMP:20260425T153912
DTSTART:20190204T160000
DTEND:20190204T183000
SEQUENCE:0
TRANSP:OPAQUE
END:VEVENT
END:VCALENDAR