BEGIN:VCALENDAR
VERSION:2.0
PRODID:-//jEvents 2.0 for Joomla//EN
CALSCALE:GREGORIAN
METHOD:PUBLISH
BEGIN:VEVENT
UID:a19de6d994192faed681563061b52865
CATEGORIES:18. Bezirk
CREATED:20180918T111449
SUMMARY:ElternBESTzeit mit Familientrainerin Claudia Umschaden
LOCATION:Spielringel Mollgasse 11-13
DESCRIPTION:28. Jänner: Warum streiten Geschwister?\nGeschwister kann man sich nicht au
 ssuchen und doch ist sie längste von allen familiären Bindungen. Es gibt ka
 um Geschwister, die nicht gelegentlich miteinander streiten, konkurrieren o
 der aufeinander eifersüchtig sind. Wie kann ich als Mutter bzw. Vater meine
  Kinder unterstützen und die Konfliktkultur in unserem Haus verbessern? Wie
  gehe ich um, wenn Geschwister sich gegenseitig verpetzen oder miteinander 
 kämpfen? Antworten auf diese und noch andere Fragen gibt dieser Themenabend
 .\nInfo &amp; Anmeldung:\nClaudia@familientrainerin.com (mailto:Claudia@fam
 ilientrainerin.com)\n
X-ALT-DESC;FMTTYPE=text/html:<p>28. Jänner: Warum streiten Geschwister?</p><p>Geschwister kann man sich 
 nicht aussuchen und doch ist sie längste von allen familiären Bindungen. Es
  gibt kaum Geschwister, die nicht gelegentlich miteinander streiten, konkur
 rieren oder aufeinander eifersüchtig sind. Wie kann ich als Mutter bzw. Vat
 er meine Kinder unterstützen und die Konfliktkultur in unserem Haus verbess
 ern? Wie gehe ich um, wenn Geschwister sich gegenseitig verpetzen oder mite
 inander kämpfen? Antworten auf diese und noch andere Fragen gibt dieser The
 menabend.</p><p><span class="text-primary">Info &amp; Anmeldung:</span></p>
 <p><a href="mailto:Claudia@familientrainerin.com">Claudia@familientrainerin
 .com</a></p>
CONTACT:www.spielringel.at
X-EXTRAINFO:[preis='2500'][anmeldung='true']
DTSTAMP:20260425T134356
DTSTART:20190128T183000
DTEND:20190128T200000
SEQUENCE:0
TRANSP:OPAQUE
END:VEVENT
END:VCALENDAR