BEGIN:VCALENDAR
VERSION:2.0
PRODID:-//jEvents 2.0 for Joomla//EN
CALSCALE:GREGORIAN
METHOD:PUBLISH
BEGIN:VEVENT
UID:03ebd2ea0f000ef6b8929720076e3b41
CATEGORIES:16. Bezirk
CREATED:19700101T010000
SUMMARY:YOGA mit BABY in einer kleinen Gruppe (offene Stunde)
LOCATION:Körpergut im 16.Bezirk\, Steinbruchstraße 6
DESCRIPTION:\nYoga für Mamas, die nach der Geburt in einer kleinen Gruppe (max. 8 Mamas
 ) wieder fit werden möchten. \n Die Übungen kräftigen die Problemzonen nach
  der Geburt und fördern die allgemeine Beweglichkeit und Entspannungsfähigk
 eit.\nStillen und Wickeln gehören bei einer "mit Baby" Einheit natürlich da
 zu!\n Für Babys ab 8 Wochen bis ca. 1,5 Jahre geeignet!\nDienstag: 10:15 – 
 11:15 – Pilates mit Baby\n Donnerstag: 10:15 – 11:15 – Yoga mit Baby\nSchnu
 pperpreis: 10€\n10er Block – 150€ (6 Monate für alle "mit Baby" Kurse bei K
 örpergut gültig) 5erBlock - 85€ (6 Monate für alle "mit Baby" Kurse bei Kör
 pergut gültig)\nKursort: Steinbruchstraße 6, 1160 Wien Nähere Infos findest
  du hier: Körpergut (https://www.koerpergut.at/kursformate/)\n
X-ALT-DESC;FMTTYPE=text/html:<p></p><p>Yoga für Mamas, die nach der Geburt in einer kleinen Gruppe (max.
  8 Mamas) wieder fit werden möchten. <br /> Die Übungen kräftigen die Probl
 emzonen nach der Geburt und fördern die allgemeine Beweglichkeit und Entspa
 nnungsfähigkeit.</p><p>Stillen und Wickeln gehören bei einer "mit Baby" Ein
 heit natürlich dazu!<br /> Für Babys ab 8 Wochen bis ca. 1,5 Jahre geeignet
 !</p><p>Dienstag: 10:15 – 11:15 – Pilates mit Baby<br /> Donnerstag: 10:15 
 – 11:15 – Yoga mit Baby</p><p>Schnupperpreis: 10€</p><p>10er Block – 150€ (
 6 Monate für alle "mit Baby" Kurse bei Körpergut gültig) 5erBlock - 85€ (6 
 Monate für alle "mit Baby" Kurse bei Körpergut gültig)</p><p>Kursort: Stein
 bruchstraße 6, 1160 Wien Nähere Infos findest du hier: <a href="https://www
 .koerpergut.at/kursformate/">Körpergut</a></p>
CONTACT:office@koerpergut.at
X-EXTRAINFO:[preis='1000'][anmeldung='true']
DTSTAMP:20260425T104008
DTSTART:20181004T081500
DTEND:20181004T091500
SEQUENCE:0
RRULE:FREQ=WEEKLY;COUNT=9999;INTERVAL=1;BYDAY=TH,TH,TH,TH,TH
TRANSP:OPAQUE
END:VEVENT
END:VCALENDAR