BEGIN:VCALENDAR
VERSION:2.0
PRODID:-//jEvents 2.0 for Joomla//EN
CALSCALE:GREGORIAN
METHOD:PUBLISH
BEGIN:VEVENT
UID:6d4306210672f397c90c08fbe7931404
CATEGORIES:6. Bezirk
CREATED:19700101T010000
SUMMARY:Babymassage (0-6 Monate)
LOCATION:Die Hebamme in Wien\, Haydngasse 21\, 1060
DESCRIPTION:Diese Förderung für alle Sinne ist eine der einfachsten, effektivsten und l
 iebevollsten Arten der Frühförderung. Gerade für Babys ist eine Massage nic
 ht nur Berührung sondern auch für die Entwicklung ganz besonders wichtig! B
 abymassage kann dazu beitragen die Durchblutung zu fördern und die Sinneswa
 hrnehmungen zu verbessern. Besonders auch bei Schreibabys kann durch Massag
 e eine positive Wirkung erzielt werden. Babys bekommen durch regelmäßige Ma
 ssage schneller einen geregelten Schlafrhythmus. Auch zur Schmerzlinderung 
 und zur positiven Beeinflussung der Verdauung kann Babymassage eingesetzt w
 erden. Jede Massageeinheit hat nicht zuletzt einen großen, positiven Einflu
 ss auf die Eltern-Kind-Beziehung. Unsere Babymassagekurse sind geeignet von
  Geburt an bis ins Krabbelalter.\nBitte zwei Wickelunterlagen, ein Handtuch
  und 2 Spuckwindeln/Baumwollwindeln mitnehmen!\nKosten: 100 Euro für 4 Einh
 eiten\nDer Kurs läuft durch! Einstieg und Anmeldung jederzeit möglich!\nKur
 szeiten: Mittwoch: 11:30 - 12:30 Uhr und Donnerstag: 8:30 Uhr bis 9:30 Uhr\
 n \n
X-ALT-DESC;FMTTYPE=text/html:<p>Diese Förderung für alle Sinne ist eine der einfachsten, effektivsten un
 d liebevollsten Arten der Frühförderung. Gerade für Babys ist eine Massage 
 nicht nur Berührung sondern auch für die Entwicklung ganz besonders wichtig
 ! Babymassage kann dazu beitragen die Durchblutung zu fördern und die Sinne
 swahrnehmungen zu verbessern. Besonders auch bei Schreibabys kann durch Mas
 sage eine positive Wirkung erzielt werden. Babys bekommen durch regelmäßige
  Massage schneller einen geregelten Schlafrhythmus. Auch zur Schmerzlinderu
 ng und zur positiven Beeinflussung der Verdauung kann Babymassage eingesetz
 t werden. Jede Massageeinheit hat nicht zuletzt einen großen, positiven Ein
 fluss auf die Eltern-Kind-Beziehung. Unsere Babymassagekurse sind geeignet 
 von Geburt an bis ins Krabbelalter.</p><p>Bitte zwei Wickelunterlagen, ein 
 Handtuch und 2 Spuckwindeln/Baumwollwindeln mitnehmen!</p><p><strong>Kosten
 : </strong>100 Euro für 4 Einheiten</p><p><strong>Der Kurs läuft durch! Ein
 stieg und Anmeldung jederzeit möglich!</strong></p><p><strong>Kurszeiten: M
 ittwoch: 11:30 - 12:30 Uhr und Donnerstag: 8:30 Uhr bis 9:30 Uhr</strong></
 p><p> </p>
CONTACT:www.diehebammeinwien.at
X-EXTRAINFO:[preis='10000'][anmeldung='true']
DTSTAMP:20260423T152811
DTSTART:20181011T063000
DTEND:20181011T073000
SEQUENCE:0
RRULE:FREQ=WEEKLY;COUNT=9999;INTERVAL=1;BYDAY=TH,TH,TH,TH,TH
TRANSP:OPAQUE
END:VEVENT
END:VCALENDAR