BEGIN:VCALENDAR
VERSION:2.0
PRODID:-//jEvents 2.0 for Joomla//EN
CALSCALE:GREGORIAN
METHOD:PUBLISH
BEGIN:VEVENT
UID:5b6c5f3ec025222ec64dc58acc8bfbaa
CATEGORIES:6. Bezirk
CREATED:20181004T173428
SUMMARY:Beikost für's Baby
LOCATION:Die Hebamme in Wien\, Haydngasse 21\, 1060
DESCRIPTION:Nach vielen Wochen, in denen das Baby ausschließlich gestillt wird und mit 
 Mamas Milch alles bekommt, was es braucht, taucht dann irgendwann das Thema
  „Essen“ am Horizont auf.\nIrgendwann zwischen dem 5. und 8. Lebensmonat fr
 agen Sie sich wahrscheinlich: Wie geht das jetzt weiter mit dem Zufüttern, 
 der sogenannten Beikost?\nDazu biete einen etwa eineinhalbstündigen "Kurzku
 rs" in der Mamunette an. Der Kurs richtet sich an Mütter (oder auch Väter) 
 mit Babys im Alter von vier bis acht Monaten, noch ganz ohne oder schon mit
  „erster Esserfahrung“. Auch nicht-gestillte Baby sind natürlich herzlich w
 illkommen.\nUnd darum geht es:\n\n - Wann ist ein guter Zeitpunkt für mein 
 Baby und woran erkenne ich das?\n - Was bekommt das Baby zu essen? Und was 
 (noch) nicht?\n - Allergieprophylaxe - der neueste Stand der Forschung.\n -
  Zu Hause und unterwegs?\n - Selbst kochen oder Gläschen?\n - Reis oder Hir
 se, Pastinake oder Karotte - und wo viel Omega3 drin ist.\n - Ganz ohne Bre
 i und Gläschen: baby-lead-weaning - der allerneueste Trend.\n - Glutenfrei 
 - was ist denn das schon wieder?\n - Und wie geht es mit dem Stillen weiter
 ?\n - ... und viele weitere Fragen.Ich bringe ein paar Sachen zum Anschauen
  und ausprobieren mit :-)\nTermine 2018: 22.10.18, 21.11.18, 12.12.18  imme
 r von 13:00 Uhr bis 14:00 Uhr \nTermine 2019: 09.01, 13.02.18, 10.04. immer
  13:00 Uhr bis 14:00 Uhr\n
X-ALT-DESC;FMTTYPE=text/html:<p>Nach vielen Wochen, in denen das Baby ausschließlich gestillt wird und m
 it Mamas Milch alles bekommt, was es braucht, taucht dann irgendwann das Th
 ema „Essen“ am Horizont auf.</p><p>Irgendwann zwischen dem 5. und 8. Lebens
 monat fragen Sie sich wahrscheinlich: Wie geht das jetzt weiter mit dem Zuf
 üttern, der sogenannten Beikost?</p><p>Dazu biete einen etwa eineinhalbstün
 digen "Kurzkurs" in der Mamunette an. Der Kurs richtet sich an Mütter (oder
  auch Väter) mit Babys im Alter von vier bis acht Monaten, noch ganz ohne o
 der schon mit „erster Esserfahrung“. Auch nicht-gestillte Baby sind natürli
 ch herzlich willkommen.</p><p>Und darum geht es:</p><ul><li>Wann ist ein gu
 ter Zeitpunkt für mein Baby und woran erkenne ich das?</li><li>Was bekommt 
 das Baby zu essen? Und was (noch) nicht?</li><li>Allergieprophylaxe - der n
 eueste Stand der Forschung.</li><li>Zu Hause und unterwegs?</li><li>Selbst 
 kochen oder Gläschen?</li><li>Reis oder Hirse, Pastinake oder Karotte - und
  wo viel Omega3 drin ist.</li><li>Ganz ohne Brei und Gläschen: baby-lead-we
 aning - der allerneueste Trend.</li><li>Glutenfrei - was ist denn das schon
  wieder?</li><li>Und wie geht es mit dem Stillen weiter?</li><li>... und vi
 ele weitere Fragen.</li></ul><p>Ich bringe ein paar Sachen zum Anschauen un
 d ausprobieren mit :-)</p><p><strong>Termine 2018</strong>: 22.10.18, 21.11
 .18, 12.12.18  immer von 13:00 Uhr bis 14:00 Uhr </p><p><strong>Termine 201
 9</strong>: 09.01, 13.02.18, 10.04. immer 13:00 Uhr bis 14:00 Uhr</p>
CONTACT:www.diehebammeinwien.at
X-EXTRAINFO:[preis='4000'][anmeldung='true']
DTSTAMP:20260423T165638
DTSTART:20190109T120000
DTEND:20190109T130000
SEQUENCE:0
TRANSP:OPAQUE
END:VEVENT
END:VCALENDAR