BEGIN:VCALENDAR
VERSION:2.0
PRODID:-//jEvents 2.0 for Joomla//EN
CALSCALE:GREGORIAN
METHOD:PUBLISH
BEGIN:VEVENT
UID:02c5f6acbc950066940c20af22d5d9e3
CATEGORIES:6. Bezirk
CREATED:19700101T010000
SUMMARY:Fit mit Baby - die Rückbildungsgymnastik mit Pfiff und Stillrunde
LOCATION:Die Hebamme in Wien\, Haydngasse 21\, 1060
DESCRIPTION:<p>Der Kurs enthält Übungen, den durch Schwangerschaft und Geburt belastete
 n Beckenboden und die stark gedehnte Bauchmuskulatur zu kräftigen und den R
 ücken zu stärken. Die Übungen sollen Spaß machen, und es ist Raum für Frage
 n und Gespräche. Der Beckenboden wird durch die Belastung in der Schwangers
 chaft geschwächt und hat ist unabhängig von dem Geburtsmodus, sprich ob Kai
 serschnitt oder normale Geburt.<br />Die Babies können natürlich mitgebrach
 t werden. Matten und Möglichkeiten um die Kinder anzulegen sind vorhanden, 
 bitte bequeme Kleidung, Babydecke und Socken mitbringen!</p><p>ab 4 Wochen 
 nach normaler Geburt und 6 Wochen nach Kaiserschnitt!</p><p><strong>Termin:
 </strong> jeden Dienstag und Donnerstag von 10:00 Uhr bis 11:00 Uhr</p><p><
 strong>Kosten: 20 Euro pro Einheit oder 180 Euro für den 10er Block</strong
 ></p><p><strong>Der Kurs läuft durch!!!</strong></p>
CONTACT:www.diehebammeinwien.at
X-EXTRAINFO:[preis='2000'][anmeldung='true']
DTSTAMP:20260423T142155
DTSTART:20181009T080000
DTEND:20181009T090000
SEQUENCE:0
RRULE:FREQ=WEEKLY;UNTIL=20191010T000000Z;INTERVAL=1;BYDAY=TU
TRANSP:OPAQUE
END:VEVENT
END:VCALENDAR