BEGIN:VCALENDAR
VERSION:2.0
PRODID:-//jEvents 2.0 for Joomla//EN
CALSCALE:GREGORIAN
METHOD:PUBLISH
BEGIN:VEVENT
UID:6a153345b584436ea65a552637f2ba69
CATEGORIES:6. Bezirk
CREATED:20181004T182120
SUMMARY:Geburtsvorbereitung für Zweit- und Mehrgebärende
LOCATION:Die Hebamme in Wien\, Haydngasse 21\, 1060
DESCRIPTION:Wenn das zweite (dritte, …) Baby kommt, ist so vieles anders, als in der Sc
 hwangerschaft mit dem ersten Kind. Es ist noch weniger Zeit da, auch diese 
 Schwangerschaft bewusst zu erleben.\nAuf der Suche nach „Geburtsvorbereitun
 g“ finden Frauen oft keine speziellen Angebote. Dabei sind die Bedürfnisse 
 eben doch etwas anders als beim ersten Kind: „Wie eine Geburt so geht“ hat 
 man eben selbst schon einmal erlebt, weiß, dass es verschiedene Phasen gibt
  und wie sich Wehen anfühlen.\nIch habe selbst zwei kleine Kinder und hätte
  mir so einen Kurs am Ende der Schwangerschaft sehr gewünscht.\nIm Infoteil
  dieses Kurses wiederhole ich natürlich die wichtigen Dinge einer Geburt no
 ch einmal. Eben mit dem Schwerpunkt: „Was könnte beim zweiten Kind anders s
 ein?“\n\n - Geburtsbeginn – wann fährt man los, wo es doch schneller gehen 
 soll (und wann ruft man den Babysitter)?\n - Die Phasen einer Geburt.\n - S
 chmerz und Schmerzlinderung, PDA &amp; Co. – dieses Mal mit oder ohne?\n - 
 Großer Bruder, große Schwester – die Geschwisterkonstellation und Mutterlie
 be für zwei (oder mehr).Im praktischen Teil geht es natürlich um Beckenbode
 n und Atmung, Wehenarbeit und Entspannung.\n\n - Beckenboden: Übungen für g
 uten Tonus und zum Loslassen\n - Wehenverarbeitungs- und Geburtspositionen\
 n - Bewusster Atmen und Wehen effektiv wirken lassenAuch für den Austausch 
 untereinander, für das erste Geburtserlebnis und noch ganz andere Dinge, di
 e Zweit- (und Dritt-) Mütter beschäftigen, ist ausreichend Zeit.\nKursumfan
 g: 4 Frauenvormittage immer Mittwochs von 9:00 Uhr bis 10:00 Uhr und einen 
 Partnertermin\nKursstart 2018: 10.10., 12.11.,\nKursstart 2019: 14.01.\n
X-ALT-DESC;FMTTYPE=text/html:<p>Wenn das zweite (dritte, …) Baby kommt, ist so vieles anders, als in der
  Schwangerschaft mit dem ersten Kind. Es ist noch weniger Zeit da, auch die
 se Schwangerschaft bewusst zu erleben.</p><p>Auf der Suche nach „Geburtsvor
 bereitung“ finden Frauen oft keine speziellen Angebote. Dabei sind die Bedü
 rfnisse eben doch etwas anders als beim ersten Kind: „Wie eine Geburt so ge
 ht“ hat man eben selbst schon einmal erlebt, weiß, dass es verschiedene Pha
 sen gibt und wie sich Wehen anfühlen.</p><p>Ich habe selbst zwei kleine Kin
 der und hätte mir so einen Kurs am Ende der Schwangerschaft sehr gewünscht.
 </p><p>Im Infoteil dieses Kurses wiederhole ich natürlich die wichtigen Din
 ge einer Geburt noch einmal. Eben mit dem Schwerpunkt: „Was könnte beim zwe
 iten Kind anders sein?“</p><ul><li>Geburtsbeginn – wann fährt man los, wo e
 s doch schneller gehen soll (und wann ruft man den Babysitter)?</li><li>Die
  Phasen einer Geburt.</li><li>Schmerz und Schmerzlinderung, PDA &amp; Co. –
  dieses Mal mit oder ohne?</li><li>Großer Bruder, große Schwester – die Ges
 chwisterkonstellation und Mutterliebe für zwei (oder mehr).</li></ul><p>Im 
 praktischen Teil geht es natürlich um Beckenboden und Atmung, Wehenarbeit u
 nd Entspannung.</p><ul><li>Beckenboden: Übungen für guten Tonus und zum Los
 lassen</li><li>Wehenverarbeitungs- und Geburtspositionen</li><li>Bewusster 
 Atmen und Wehen effektiv wirken lassen</li></ul><p>Auch für den Austausch u
 ntereinander, für das erste Geburtserlebnis und noch ganz andere Dinge, die
  Zweit- (und Dritt-) Mütter beschäftigen, ist ausreichend Zeit.</p><p><stro
 ng>Kursumfang:</strong> 4 Frauenvormittage immer Mittwochs von 9:00 Uhr bis
  10:00 Uhr und einen Partnertermin</p><p><strong>Kursstart 2018: 10.10., 12
 .11.,</strong></p><p><strong>Kursstart 2019: 14.01.</strong></p>
CONTACT:www.diehebammeinwien.at
X-EXTRAINFO:[preis='20000'][anmeldung='true']
DTSTAMP:20260423T152815
DTSTART:20190114T080000
DTEND:20190114T090000
SEQUENCE:0
TRANSP:OPAQUE
END:VEVENT
END:VCALENDAR