BEGIN:VCALENDAR
VERSION:2.0
PRODID:-//jEvents 2.0 for Joomla//EN
CALSCALE:GREGORIAN
METHOD:PUBLISH
BEGIN:VEVENT
UID:57b4ad152272f5b3a6c6c602ee2b29b2
CATEGORIES:1. Bezirk
CREATED:20181010T092954
SUMMARY:FÜHRUNG - VON MINI BIS XXL
LOCATION:Bank Austria Kunstforum
DESCRIPTION:Von Mini bis XXL!Bank Austria Kunstforum\nAusstellungsbesuch für Eltern mit
  Babys/Kindern (0–5 Jahre)Ein begleiteter Ausstellungsrundgang, der ganz au
 f die Bedürfnisse von Eltern und Kleinkindern zugeschnitten ist! Eigens ein
 gerichtete Sitzinseln bilden das Zentrum jeder Kunstbetrachtung. In entspan
 nter Gesprächssituation werden Informationen zu den Werken gegeben, während
  die Kinder mit Multi-Sinnes-Aktivitäten zu eigenem Entdecken und Erleben a
 ngeregt werden.\n
X-ALT-DESC;FMTTYPE=text/html:<h2 id="event-title73" class="summary">Von Mini bis XXL!</h2><p class="v lo
 cation">Bank Austria Kunstforum</p><h5><em><strong>Ausstellungsbesuch für E
 ltern mit Babys/Kindern (0–5 Jahre)</strong></em></h5><p>Ein begleiteter Au
 sstellungsrundgang, der ganz auf die Bedürfnisse von Eltern und Kleinkinder
 n zugeschnitten ist! Eigens eingerichtete Sitzinseln bilden das Zentrum jed
 er Kunstbetrachtung. In entspannter Gesprächssituation werden Informationen
  zu den Werken gegeben, während die Kinder mit Multi-Sinnes-Aktivitäten zu 
 eigenem Entdecken und Erleben angeregt werden.</p>
CONTACT:vermittlung@bankaustria-kunstforum.at
X-EXTRAINFO:[preis='1450'][anmeldung='true']
DTSTAMP:20260425T103906
DTSTART:20190116T140000
DTEND:20190116T144500
SEQUENCE:0
TRANSP:OPAQUE
END:VEVENT
END:VCALENDAR