BEGIN:VCALENDAR
VERSION:2.0
PRODID:-//jEvents 2.0 for Joomla//EN
CALSCALE:GREGORIAN
METHOD:PUBLISH
BEGIN:VEVENT
UID:a2f4c2b7f7089c4b762157578943b81e
CATEGORIES:6. Bezirk
CREATED:20181011T174749
SUMMARY:Geschwistervorbereitungskurs
LOCATION:Die Hebamme in Wien\, Haydngasse 21\, 1060
DESCRIPTION:Wenn ein Baby unterwegs ist, bedeutet das immer eine große Veränderung.\nNi
 cht nur für die werdenden Eltern. Gibt es schon ein Kind in der Familie, so
  erwartet dieses einige Neuigkeiten.\nDas Kind ist nicht mehr DAS Kind von 
 Mama und Papa, sondern EIN Kind von Mama und Papa. Es wird nicht mehr im Mi
 ttelpunkt stehen, denn es ist ein kleines Wesen unterwegs, das auch die Auf
 merksamkeit und die Liebe von den Eltern möchte, und natürlich auch vom gro
 ßen Bruder/ der großen Schwester.\nEine gute Vorbereitung auf dieses für da
 s Kind weltbewegende Ereignis ist somit eine wichtige Basis um mit den Verä
 nderungen klarzukommen.\nIn der Fachsprache spricht man hier von der Entthr
 onung. Darauf reagieren Kinder nicht selten mit Wut, Trotz und Aggression g
 egenüber dem kleinen Geschwisterchen und den Eltern.\nIn unserem Kurs wolle
 n wir die Kinder auf ihre neue Aufgabe vorbereiten, sodass sie das Gefühl b
 ekommen, miteinbezogen zu sein und nicht von der Ankunft des Babys überrump
 elt werden. Wir vermitteln neben dem Wissen, woher die Babys kommen, wie si
 e im Bauch leben und was Babys brauchen wenn sie auf die Welt kommen, auch 
 erste Handgriffe (wickeln, baden, füttern), damit die Kinder in den Alltag 
 mit dem Neugeborenen eingebunden werden können.\nTermine 2018: 29.09., 10.1
 1.,  -  jeweils von 09:30 Uhr bis 11:30 Uhr\nTermine 2019: 19.01., 23.03., 
 25.5.  - jeweils von 09:30 Uhr bis 11:30 Uhr\n
X-ALT-DESC;FMTTYPE=text/html:<p>Wenn ein Baby unterwegs ist, bedeutet das immer eine große Veränderung.<
 br />Nicht nur für die werdenden Eltern. Gibt es schon ein Kind in der Fami
 lie, so erwartet dieses einige Neuigkeiten.</p><p>Das Kind ist nicht mehr D
 AS Kind von Mama und Papa, sondern EIN Kind von Mama und Papa. Es wird nich
 t mehr im Mittelpunkt stehen, denn es ist ein kleines Wesen unterwegs, das 
 auch die Aufmerksamkeit und die Liebe von den Eltern möchte, und natürlich 
 auch vom großen Bruder/ der großen Schwester.</p><p>Eine gute Vorbereitung 
 auf dieses für das Kind weltbewegende Ereignis ist somit eine wichtige Basi
 s um mit den Veränderungen klarzukommen.</p><p>In der Fachsprache spricht m
 an hier von der Entthronung. Darauf reagieren Kinder nicht selten mit Wut, 
 Trotz und Aggression gegenüber dem kleinen Geschwisterchen und den Eltern.<
 /p><p>In unserem Kurs wollen wir die Kinder auf ihre neue Aufgabe vorbereit
 en, sodass sie das Gefühl bekommen, miteinbezogen zu sein und nicht von der
  Ankunft des Babys überrumpelt werden. Wir vermitteln neben dem Wissen, woh
 er die Babys kommen, wie sie im Bauch leben und was Babys brauchen wenn sie
  auf die Welt kommen, auch erste Handgriffe (wickeln, baden, füttern), dami
 t die Kinder in den Alltag mit dem Neugeborenen eingebunden werden können.<
 /p><p><b>Termine 2018: 29.09., 10.11.,  -  jeweils von 09:30 Uhr bis 11:30 
 Uhr</b></p><p><b>Termine 2019: 19.01., 23.03., 25.5.  - jeweils von 09:30 U
 hr bis 11:30 Uhr</b></p>
CONTACT:www.diehebammeinwien.at
X-EXTRAINFO:[preis='3000'][anmeldung='true']
DTSTAMP:20260423T152651
DTSTART:20190119T083000
DTEND:20190119T103000
SEQUENCE:0
TRANSP:OPAQUE
END:VEVENT
END:VCALENDAR