BEGIN:VCALENDAR
VERSION:2.0
PRODID:-//jEvents 2.0 for Joomla//EN
CALSCALE:GREGORIAN
METHOD:PUBLISH
BEGIN:VEVENT
UID:6e68c5ebb83af6febf6cf2a3fe769a2b
CATEGORIES:6. Bezirk
CREATED:20181024T171618
SUMMARY:Geburtsvorbereitungskurs für Paare
LOCATION:Die Hebamme in Wien\, Haydngasse 21\, 1060
DESCRIPTION:Am Ende eines guten Geburtsvorbereitungskurses soll das geschehen sein, was
  der Name verspricht: Sie werden vorbereitet sein und rundum informiert. Si
 e werden Sicherheit, Kraft und Vertrauen gefunden haben in eine Fähigkeit, 
 die in jeder Zelle ihres Körpers gespeichert ist: Gebären können! Und: Sie 
 hatten wahrscheinlich auch eine Menge Spaß …\nUnd warum ein Paar-Kurs? Müss
 en Männer denn hecheln lernen? Welch eine Freude, diese gängigen Klischees 
 über Geburtsvorbereitungskurse… Lassen Sie sich überraschen (eine kurze Ant
 wort auf die zweite Frage: Natürlich nicht – weder Männer noch Frauen)!\nDe
 r Kurs vermittelt ausführliche Informationen rund um die Schwangerschaft un
 d die Geburt und auch über das »medizinische Geschehen« in einem Krankenhau
 s. Wir probieren Partner-Übungen aus, die ganz praktische Relevanz für die 
 Situation im Kreißsaal haben und die helfen, die Wehen möglichst konstrukti
 v zu verarbeiten. Frauen werden bestärkt in dem wachsenden Gefühl: »ich kan
 n das!« Männer erleben das Gefühl eine Hilfe zu sein, ohne wirklich viel zu
  »tun«. Das Miteinandersein mit Paaren im gleichen Boot gibt manchmal ganz 
 überraschende Gedankenanstöße und Gesprächstoff für den Weg nach Hause. So 
 stellt der Kurs eine Begleitung einer sehr besonderen Lebensphase für Fraue
 n und Männer dar und trägt einen Teil dazu bei, die Schwangerschaft gemeins
 am zu erleben.\nDazu erwarten Sie Informationen zu:\n\n - über die Geburt, 
 ihren Beginn und ihre verschiedene Phasen\n - verschiedene »alternative« Fo
 rmen (verschiedene Geburtspositionen, Wassergeburt)\n - Schmerz und Linderu
 ng\n - der Anfang zu Hause: erste Wehen und Anzeichen\n - Einblick hinter d
 ie Kulissen einer Klinik\n - Stillen und die allerersten Tage nach der Gebu
 rt \nÜbungen\n \n\n - zur Körperwahrnehmung\n - zur Wahrnehmung des Atems\n
  - zur Entspannung\n - zum Genießen und Verwöhnen\n - zu hilfreichen Positi
 onen und HaltungenWann: immer Sonntags von 10:00 Uhr bis 18:00 Uhr\nTermine
  2018:  4.11, 09.12., \nTermine 2019: 13.1., 10.02.\nPausen werden nach Gru
 ppenbedarf eingeteilt! Der Austausch untereinander ist gegeben!\n
X-ALT-DESC;FMTTYPE=text/html:<p>Am Ende eines guten Geburtsvorbereitungskurses soll das geschehen sein, 
 was der Name verspricht: Sie werden vorbereitet sein und rundum informiert.
  Sie werden Sicherheit, Kraft und Vertrauen gefunden haben in eine Fähigkei
 t, die in jeder Zelle ihres Körpers gespeichert ist: Gebären können! Und: S
 ie hatten wahrscheinlich auch eine Menge Spaß …</p><p>Und warum ein Paar-Ku
 rs? Müssen Männer denn hecheln lernen? Welch eine Freude, diese gängigen Kl
 ischees über Geburtsvorbereitungskurse… Lassen Sie sich überraschen (eine k
 urze Antwort auf die zweite Frage: Natürlich nicht – weder Männer noch Frau
 en)!</p><p>Der Kurs vermittelt ausführliche Informationen rund um die Schwa
 ngerschaft und die Geburt und auch über das »medizinische Geschehen« in ein
 em Krankenhaus. Wir probieren Partner-Übungen aus, die ganz praktische Rele
 vanz für die Situation im Kreißsaal haben und die helfen, die Wehen möglich
 st konstruktiv zu verarbeiten. Frauen werden bestärkt in dem wachsenden Gef
 ühl: »ich kann das!« Männer erleben das Gefühl eine Hilfe zu sein, ohne wir
 klich viel zu »tun«. Das Miteinandersein mit Paaren im gleichen Boot gibt m
 anchmal ganz überraschende Gedankenanstöße und Gesprächstoff für den Weg na
 ch Hause. So stellt der Kurs eine Begleitung einer sehr besonderen Lebensph
 ase für Frauen und Männer dar und trägt einen Teil dazu bei, die Schwangers
 chaft gemeinsam zu erleben.</p><p>Dazu erwarten Sie Informationen zu:</p><u
 l><li>über die Geburt, ihren Beginn und ihre verschiedene Phasen</li><li>ve
 rschiedene »alternative« Formen (verschiedene Geburtspositionen, Wassergebu
 rt)</li><li>Schmerz und Linderung</li><li>der Anfang zu Hause: erste Wehen 
 und Anzeichen</li><li>Einblick hinter die Kulissen einer Klinik</li><li>Sti
 llen und die allerersten Tage nach der Geburt</li></ul><p> </p><p style="ma
 rgin-bottom: -1em;">Übungen</p><p style="margin-bottom: -1em;"> </p><ul><li
 >zur Körperwahrnehmung</li><li>zur Wahrnehmung des Atems</li><li>zur Entspa
 nnung</li><li>zum Genießen und Verwöhnen</li><li>zu hilfreichen Positionen 
 und Haltungen</li></ul><p><strong>Wann:</strong> immer Sonntags von 10:00 U
 hr bis 18:00 Uhr</p><p><strong>Termine 2018: </strong> 4.11, 09.12., </p><p
 ><strong>Termine 2019: </strong>13.1<strong>., </strong>10.02.</p><p>Pausen
  werden nach Gruppenbedarf eingeteilt! Der Austausch untereinander ist gege
 ben!</p>
CONTACT:www.diehebammeinwien.at
X-EXTRAINFO:[preis='35000'][anmeldung='true']
DTSTAMP:20260423T152706
DTSTART:20190113T090000
DTEND:20190113T170000
SEQUENCE:0
TRANSP:OPAQUE
END:VEVENT
END:VCALENDAR