BEGIN:VCALENDAR
VERSION:2.0
PRODID:-//jEvents 2.0 for Joomla//EN
CALSCALE:GREGORIAN
METHOD:PUBLISH
BEGIN:VEVENT
UID:090c3b5eb1e14fdc00c08b12e78cd063
CATEGORIES:6. Bezirk
CREATED:19700101T010000
SUMMARY:Stillgruppe
LOCATION:Die Hebamme in Wien\, Haydngasse 21\, 1060
DESCRIPTION:<p>Bei uns in der Stillgruppe sind alle willkommen!</p><p>Von frisch geback
 enen Mamas bis zur Langzeitstillmama!</p><p><strong>Termin:</strong> jeden 
 Dienstag (läuft schon) und Donnerstag (ab 8.11.) von 11:30 Uhr bis 12:30 Uh
 r</p><p><strong>Kosten:</strong> 4 Euro</p><p>Anmeldung nicht erforderlich!
 </p>
CONTACT:www.diehebammeinwien.at
X-EXTRAINFO:[preis='400'][anmeldung='false']
DTSTAMP:20260423T195320
DTSTART:20181108T103000
DTEND:20181108T113000
SEQUENCE:0
RRULE:FREQ=WEEKLY;UNTIL=20191109T000000Z;INTERVAL=1;BYDAY=TH
TRANSP:OPAQUE
END:VEVENT
END:VCALENDAR