BEGIN:VCALENDAR
VERSION:2.0
PRODID:-//jEvents 2.0 for Joomla//EN
CALSCALE:GREGORIAN
METHOD:PUBLISH
BEGIN:VEVENT
UID:773f716e666c5436525761d166cdde17
CATEGORIES:21. Bezirk
CREATED:19700101T010000
SUMMARY:Mama-Baby-Yoga
LOCATION:littlesuns\, Donaufelderstrasse 102/2
DESCRIPTION:http://www.littlesuns.at/mama-baby-yoga (http://www.littlesuns.at/mama-baby
 -yoga)\n
X-ALT-DESC;FMTTYPE=text/html:<p><a href="http://www.littlesuns.at/mama-baby-yoga">http://www.littlesuns.
 at/mama-baby-yoga</a></p>
CONTACT:www.littlesuns.at/06645274715/info@littlesuns.at
X-EXTRAINFO:[preis='1500'][anmeldung='true']
DTSTAMP:20260423T165624
DTSTART:20181107T080000
DTEND:20181107T091500
SEQUENCE:0
RRULE:FREQ=WEEKLY;UNTIL=20190131T000000Z;INTERVAL=1;BYDAY=WE
TRANSP:OPAQUE
END:VEVENT
END:VCALENDAR