BEGIN:VCALENDAR
VERSION:2.0
PRODID:-//jEvents 2.0 for Joomla//EN
CALSCALE:GREGORIAN
METHOD:PUBLISH
BEGIN:VEVENT
UID:ad91c047b7bbac0b80cc9ffbc9e11ea5
CATEGORIES:21. Bezirk
CREATED:19700101T010000
SUMMARY:Babygruppe(im Littlesuns)
LOCATION:littlesuns\, Donaufelderstrasse 102/2
DESCRIPTION:http://www.littlesuns.at/babygruppe/ (http://www.littlesuns.at/babygruppe/)
 \n
X-ALT-DESC;FMTTYPE=text/html:<p><a href="http://www.littlesuns.at/babygruppe/">http://www.littlesuns.at/
 babygruppe/</a></p>
CONTACT:www.littlesuns.at/06645274715/info@littlesuns.at
X-EXTRAINFO:[preis='1000'][anmeldung='true']
DTSTAMP:20260423T165608
DTSTART:20181106T080000
DTEND:20181106T093000
SEQUENCE:0
RRULE:FREQ=WEEKLY;UNTIL=20190130T000000Z;INTERVAL=10;BYDAY=TU,TU,TU,TU,TU
TRANSP:OPAQUE
END:VEVENT
END:VCALENDAR