BEGIN:VCALENDAR
VERSION:2.0
PRODID:-//jEvents 2.0 for Joomla//EN
CALSCALE:GREGORIAN
METHOD:PUBLISH
BEGIN:VEVENT
UID:59c9bdf0649030bc65c4cde304d4480d
CATEGORIES:21. Bezirk
CREATED:19700101T010000
SUMMARY:Spielgruppe 1,5-2,5 Jahre(im littlesuns)
LOCATION:littlesuns\, Donaufelderstrasse 102/2
DESCRIPTION:http://www.littlesuns.at/spielgruppe/ (http://www.littlesuns.at/spielgruppe
 /)\n
X-ALT-DESC;FMTTYPE=text/html:<p><a href="http://www.littlesuns.at/spielgruppe/">http://www.littlesuns.at
 /spielgruppe/</a></p>
CONTACT:www.littlesuns.at/06645274715/info@littlesuns.at
X-EXTRAINFO:[preis='1200'][anmeldung='true']
DTSTAMP:20260423T173239
DTSTART:20181109T080000
DTEND:20181109T093000
SEQUENCE:0
RRULE:FREQ=WEEKLY;UNTIL=20190202T000000Z;INTERVAL=1;BYDAY=FR
TRANSP:OPAQUE
END:VEVENT
END:VCALENDAR