BEGIN:VCALENDAR
VERSION:2.0
PRODID:-//jEvents 2.0 for Joomla//EN
CALSCALE:GREGORIAN
METHOD:PUBLISH
BEGIN:VEVENT
UID:12f5232151b7bafeb0df34d802174ef3
CATEGORIES:21. Bezirk
CREATED:19700101T010000
SUMMARY:Spielgruppe 2-4 Jahre(im littlesuns)
LOCATION:littlesuns\, Donaufelderstrasse 102/2
DESCRIPTION:<p><a href="http://www.littlesuns.at/spielgruppe/">http://www.littlesuns.at
 /spielgruppe/</a></p>
CONTACT:www.littlesuns.at/06645274715/info@littlesuns.at
X-EXTRAINFO:[preis='1200'][anmeldung='true']
DTSTAMP:20260423T180917
DTSTART:20181204T080000
DTEND:20181204T093000
SEQUENCE:0
RRULE:FREQ=WEEKLY;COUNT=9999;INTERVAL=1;BYDAY=TU,TU,TU,TU,TU
EXDATE:20181106T080000,20181113T080000,20181120T080000,20181127T080000
TRANSP:OPAQUE
END:VEVENT
END:VCALENDAR