BEGIN:VCALENDAR
VERSION:2.0
PRODID:-//jEvents 2.0 for Joomla//EN
CALSCALE:GREGORIAN
METHOD:PUBLISH
BEGIN:VEVENT
UID:e795ba5093b2237487eb8b21dded4fdc
CATEGORIES:19. Bezirk
CREATED:19700101T010000
SUMMARY:Babyzeichensprache - Zwergensprache
LOCATION:Raum Happy im Lollipop des Q19
DESCRIPTION:Zeigst Du Deinem Baby auch schon einfache Handzeichen wie winken und bravo 
 klatschen? Genauso einfach wie diese Handbewegungen sind andere Gebärden au
 s der Gebärdensprache, die Kinder schon recht bald nachmachen können. Auf d
 iese Art kann Dir Dein Schatz zu verstehen geben was sie oder er möchte. Ba
 bys, die sich auf diese Art ausdrücken lernen sind zufriedener und quengeln
  weniger. Andererseits werden sie sehr bald zu kleinen Ansprechpartnern, wa
 s ihr Selbstwertgefühl deutlich steigert. \n\nIm Kurs lernt Ihr ca 100 der 
 wichtigsten Anfängerzeichen sowie Lieder und Spiele, die die Familie lange 
 begleiten. \nIn der ersten Kursstunde kannst Du kostenlos und unverbindlich
  schnuppern. \nAnmeldung zum Schnuppern oder zum Kurs unter mama@mamalogin.
 at (mailto:mama@mamalogin.at) oder 0664 7510 37 63. Ich freue mich auf Euch
 !\n
X-ALT-DESC;FMTTYPE=text/html:<p>Zeigst Du Deinem Baby auch schon einfache Handzeichen wie winken und bra
 vo klatschen? Genauso einfach wie diese Handbewegungen sind andere Gebärden
  aus der Gebärdensprache, die Kinder schon recht bald nachmachen können. Au
 f diese Art kann Dir Dein Schatz zu verstehen geben was sie oder er möchte.
  Babys, die sich auf diese Art ausdrücken lernen sind zufriedener und queng
 eln weniger. Andererseits werden sie sehr bald zu kleinen Ansprechpartnern,
  was ihr Selbstwertgefühl deutlich steigert. <br /><br />Im Kurs lernt Ihr 
 ca 100 der wichtigsten Anfängerzeichen sowie Lieder und Spiele, die die Fam
 ilie lange begleiten. </p><p>In der ersten Kursstunde kannst Du kostenlos u
 nd unverbindlich schnuppern. <br />Anmeldung zum Schnuppern oder zum Kurs u
 nter <a href="mailto:mama@mamalogin.at">mama@mamalogin.at</a> oder 0664 751
 0 37 63. Ich freue mich auf Euch!</p>
CONTACT:Simone: mama@mamalogin.at oder 0664 7510 37 63
X-EXTRAINFO:[preis='14500'][anmeldung='true']
DTSTAMP:20260424T125037
DTSTART:20181122T083000
DTEND:20181122T093000
SEQUENCE:0
RRULE:FREQ=WEEKLY;COUNT=10;INTERVAL=1;BYDAY=TH
TRANSP:OPAQUE
END:VEVENT
END:VCALENDAR