BEGIN:VCALENDAR
VERSION:2.0
PRODID:-//jEvents 2.0 for Joomla//EN
CALSCALE:GREGORIAN
METHOD:PUBLISH
BEGIN:VEVENT
UID:cc061a5d6d0453f323b4147fd6cb978d
CATEGORIES:6. Bezirk
CREATED:19700101T010000
SUMMARY:BIOLINO - Bewegungswelt mit Musik
LOCATION:6.\, Sandwirtgasse 13/12
DESCRIPTION:<div id="cc-m-11468763397" class="j-module n j-textWithImage "><div><div id
 ="cc-m-textwithimage-11468763397" class="cc-m-textwithimage-inline-rte" dat
 a-name="text" data-action="text"><strong>Spielgruppe mit Schwerpunkt Bewegu
 ng und Musik</strong></div><div class="cc-m-textwithimage-inline-rte" data-
 name="text" data-action="text"> </div></div></div><div id="cc-m-11468763497
 " class="j-module n j-text "><p style="text-align: left;">Die <strong>Beweg
 ungswelt mit Musik </strong>ist für Kinder von <strong>10 - 20 Monaten.</st
 rong> Wir krabbeln, kuscheln, singen, springen, kriechen und tanzen – und h
 aben gemeinsam jede Menge Spaß. So stärken wir Körpergefühl, Grobmotorik un
 d die Lust, uns zu bewegen. Wir singen und spielen gemeinsam Bewegungsliede
 r, die du ganz einfach mit deinem Kind zu Hause umsetzen kannst.</p><div id
 ="cc-m-11468763397" class="j-module n j-textWithImage "><div><div id="cc-m-
 textwithimage-11468763397" class="cc-m-textwithimage-inline-rte" data-name=
 "text" data-action="text"><p><strong>Kursleitung</strong>: Sandra</p><p><st
 rong>Kurstag</strong>: Donnerstag</p><p><strong>Kurszeit</strong>: 09.30 - 
 10.30 Uhr</p><p> </p><p>Du kannst diese Spielgruppe mit der <a href="https:
 //bit.ly/2PuEK3w">Biolino-Blockkarte</a> besuchen. Einfach eine <a href="ht
 tps://bit.ly/2PuEK3w">Blockkarte </a>kaufen und alle Spielgruppen, die in u
 nserem <a href="https://bit.ly/2wH40Mb">Stundenplan </a>mit einem Herz geke
 nnzeichnet sind besuchen.</p><p>Miit dem Code: "Babymamas" bekommst du -10%
  auf alle Blockkarten &lt;3</p><p>Bis bald im <a href="http://www.biolino.a
 t">Biolino Institut</a>,</p><p>Martina</p></div></div></div></div>
X-ALT-DESC;FMTTYPE=text/html:<div id="cc-m-11468763397" class="j-module n j-textWithImage "><div><div id
 ="cc-m-textwithimage-11468763397" class="cc-m-textwithimage-inline-rte" dat
 a-name="text" data-action="https://babymamas.at/text"><strong>Spielgruppe m
 it Schwerpunkt Bewegung und Musik</strong></div><div class="cc-m-textwithim
 age-inline-rte" data-name="text" data-action="https://babymamas.at/text"> <
 /div></div></div><div id="cc-m-11468763497" class="j-module n j-text "><p s
 tyle="text-align: left;">Die <strong>Bewegungswelt mit Musik </strong>ist f
 ür Kinder von <strong>10 - 20 Monaten.</strong> Wir krabbeln, kuscheln, sin
 gen, springen, kriechen und tanzen – und haben gemeinsam jede Menge Spaß. S
 o stärken wir Körpergefühl, Grobmotorik und die Lust, uns zu bewegen. Wir s
 ingen und spielen gemeinsam Bewegungslieder, die du ganz einfach mit deinem
  Kind zu Hause umsetzen kannst.</p><div id="cc-m-11468763397" class="j-modu
 le n j-textWithImage "><div><div id="cc-m-textwithimage-11468763397" class=
 "cc-m-textwithimage-inline-rte" data-name="text" data-action="https://babym
 amas.at/text"><p><strong>Kursleitung</strong>: Sandra</p><p><strong>Kurstag
 </strong>: Donnerstag</p><p><strong>Kurszeit</strong>: 09.30 - 10.30 Uhr</p
 ><p> </p><p>Du kannst diese Spielgruppe mit der <a href="https://bit.ly/2Pu
 EK3w">Biolino-Blockkarte</a> besuchen. Einfach eine <a href="https://bit.ly
 /2PuEK3w">Blockkarte </a>kaufen und alle Spielgruppen, die in unserem <a hr
 ef="https://bit.ly/2wH40Mb">Stundenplan </a>mit einem Herz gekennzeichnet s
 ind besuchen.</p><p>Miit dem Code: "Babymamas" bekommst du -10% auf alle Bl
 ockkarten &lt;3</p><p>Bis bald im <a href="http://www.biolino.at">Biolino I
 nstitut</a>,</p><p>Martina</p></div></div></div></div>
CONTACT:www.biolino.at, martina.novak@biolino.at, 0677 628 929 70
X-EXTRAINFO:[preis='1500'][anmeldung='true']
DTSTAMP:20260423T211901
DTSTART:20181108T083000
DTEND:20181108T093000
SEQUENCE:0
RRULE:FREQ=WEEKLY;UNTIL=20190201T000000Z;INTERVAL=1;BYDAY=TH
TRANSP:OPAQUE
END:VEVENT
END:VCALENDAR