BEGIN:VCALENDAR
VERSION:2.0
PRODID:-//jEvents 2.0 for Joomla//EN
CALSCALE:GREGORIAN
METHOD:PUBLISH
BEGIN:VEVENT
UID:d178cc932ed9ab1e0d6273d56792ee4b
CATEGORIES:22. Bezirk
CREATED:19700101T010000
SUMMARY:Babyzeichensprache - Zwergensprache
LOCATION:Happy Families\, Gewerbepark Stadlau
DESCRIPTION:<p>Zeigst Du Deinem Baby auch schon einfache Handzeichen wie winken und bra
 vo klatschen? Genauso einfach wie diese Handbewegungen sind andere Gebärden
  aus der Gebärdensprache, die Kinder schon recht bald nachmachen können. Au
 f diese Art kann Dir Dein Schatz zu verstehen geben was sie oder er möchte.
  Babys, die sich auf diese Art ausdrücken lernen sind zufriedener und queng
 eln weniger. Andererseits werden sie sehr bald zu kleinen Ansprechpartnern,
  was ihr Selbstwertgefühl deutlich steigert. <br /><br />Im Kurs lernt Ihr 
 ca 100 der wichtigsten Anfängerzeichen sowie Lieder und Spiele, die die Fam
 ilie lange begleiten. </p><p>Anmeldung zum Kurs auf www.happy-families.at</
 p>
CONTACT:Simone: mama@mamalogin.at oder 0664 7510 37 63
X-EXTRAINFO:[preis='17900'][anmeldung='true']
DTSTAMP:20260423T182713
DTSTART:20181210T094500
DTEND:20181210T104500
SEQUENCE:0
RRULE:FREQ=WEEKLY;COUNT=12;INTERVAL=1;BYDAY=MO
TRANSP:OPAQUE
END:VEVENT
END:VCALENDAR