BEGIN:VCALENDAR
VERSION:2.0
PRODID:-//jEvents 2.0 for Joomla//EN
CALSCALE:GREGORIAN
METHOD:PUBLISH
BEGIN:VEVENT
UID:ce50611b97b34a7631041cc2d7e9a2f3
CATEGORIES:6. Bezirk
CREATED:19700101T010000
SUMMARY:Babyzeichensprache - Zwergensprache
LOCATION:Kreativititätszentum Lyma am Loquaiplatz
DESCRIPTION:Zeigst Du Deinem Baby auch schon einfache Handzeichen wie winken und bravo 
 klatschen? Genauso einfach wie diese Handbewegungen sind andere Gebärden au
 s der Gebärdensprache, die Kinder schon recht bald nachmachen können. Auf d
 iese Art kann Dir Dein Schatz zu verstehen geben was sie oder er möchte. Ba
 bys, die sich auf diese Art ausdrücken lernen sind zufriedener und quengeln
  weniger. Andererseits werden sie sehr bald zu kleinen Ansprechpartnern, wa
 s ihr Selbstwertgefühl deutlich steigert. \n\nIm Kurs lernt Ihr ca 100 der 
 wichtigsten Anfängerzeichen sowie Lieder und Spiele, die die Familie lange 
 begleiten. \nAnmeldung auf www.lyma.at\n
X-ALT-DESC;FMTTYPE=text/html:<p>Zeigst Du Deinem Baby auch schon einfache Handzeichen wie winken und bra
 vo klatschen? Genauso einfach wie diese Handbewegungen sind andere Gebärden
  aus der Gebärdensprache, die Kinder schon recht bald nachmachen können. Au
 f diese Art kann Dir Dein Schatz zu verstehen geben was sie oder er möchte.
  Babys, die sich auf diese Art ausdrücken lernen sind zufriedener und queng
 eln weniger. Andererseits werden sie sehr bald zu kleinen Ansprechpartnern,
  was ihr Selbstwertgefühl deutlich steigert. <br /><br />Im Kurs lernt Ihr 
 ca 100 der wichtigsten Anfängerzeichen sowie Lieder und Spiele, die die Fam
 ilie lange begleiten. </p><p>Anmeldung auf www.lyma.at</p>
CONTACT:Simone: mama@mamalogin.at oder 0664 7510 37 63
X-EXTRAINFO:[preis='15000'][anmeldung='true']
DTSTAMP:20260423T222830
DTSTART:20181204T083000
DTEND:20181204T093000
SEQUENCE:0
RRULE:FREQ=WEEKLY;UNTIL=20190227T000000Z;INTERVAL=1;BYDAY=TU
TRANSP:OPAQUE
END:VEVENT
END:VCALENDAR