BEGIN:VCALENDAR
VERSION:2.0
PRODID:-//jEvents 2.0 for Joomla//EN
CALSCALE:GREGORIAN
METHOD:PUBLISH
BEGIN:VEVENT
UID:3075a4f374f2d3bf532c0cccf1816a6a
CATEGORIES:7. Bezirk
CREATED:19700101T010000
SUMMARY:PIKLER-Spielraum - 7 bis 15 Monate - ab 19.11.
LOCATION:1070\, Westbahnstraße 56 - 58
DESCRIPTION:Raum und Zeit\n im eigenen Rhythmus zu spielen, zu entdecken, sich zu spüre
 n,\n alleine - mit anderen \n in deiner liebevollen und wahrnehmenden Begle
 itung,\n die Vertrauen und Sicherheit gibt,\n inspiriert von der selbständi
 gen Bewegungsentwicklung\n nach Emmi Pikler (http://eltern-kind-freiraum.at
 /spielraum.php) und Elfriede Hengstenberg.\nMöchtest du entspannt dein Kind
  beim lustvollen Spielen beobachten \n und mit unvoreingenommenem Blick wah
 rnehmen, was es alles kann?\nIch begleite in Situationen, die das erfordern
  - verbal oder nonverbal - und beantworte deine Fragen, die in direktem Zus
 ammenhang mit dem aktuellen Geschehen stehen.\n8 Einheiten und 2 Elterntank
 stellen.\n Im Mittelpunkt der 2 Elterntankstellen (http://eltern-kind-freir
 aum.at/fr_ef.php) - jeweils am Montag, den 26.11. und 7.1. um 19 Uhr - steh
 en deine Fragen, die sich aus dem Spielraum \n oder aus dem Alltag mit dein
 er Familie ergeben.\nWann: Montag 9.30 bis 10.45 UND 11.00 bis 12.15\n\nEin
 e Schnupperstunde ist möglich.\nDer Einstieg in diese Spielraum-Gruppe ist 
 jederzeit möglich,\n soferne Plätze frei sind.\nFRÜHLINGSKURS : 11. Februar
  bis 25. März\nMehr dazu: http://eltern-kind-freiraum.at/fr7.php (http://el
 tern-kind-freiraum.at/fr7.php)\n  (http://www.eltern-kind-freiraum.at)Elter
 ntankstellen: http://eltern-kind-freiraum.at/fr_ef.php (http://eltern-kind-
 freiraum.at/fr_ef.php) \nWeitere Gruppen:\n3 bis 7 Monate: Montag 12.30 Uhr
  sowie Einzelstunden nach Vereinbarung\n7 bis 15 Monate: Montag 9.30 Uhr\n 
                              Donnerstag 13.45 Uhr\n15 bis 27 Monate: Dienst
 ag 13.45 Uhr\n2 1/4 bis 3 1/2 Jahre: Montag 14.30 Uhr\n2 bis 4 Jahre: Donne
 rstag 15.25 Uhr\n GeschwisterFreiraum: Dienstag 15.25 Uhr\nwww.eltern-kind-
 freiraum.at (http://www.eltern-kind-freiraum.at)\n \n
X-ALT-DESC;FMTTYPE=text/html:<p><strong>Raum und Zeit</strong><br /> im eigenen Rhythmus zu spielen, zu 
 entdecken, sich zu spüren,<br /> alleine - mit anderen <br /> in deiner lie
 bevollen und wahrnehmenden Begleitung,<br /> die Vertrauen und Sicherheit g
 ibt,<br /> <strong>inspiriert von der selbständigen Bewegungsentwicklung</s
 trong><br /> <a href="http://eltern-kind-freiraum.at/spielraum.php"><strong
 >nach Emmi Pikler</strong></a><strong> und Elfriede Hengstenberg.</strong><
 /p><p>Möchtest du entspannt dein Kind beim lustvollen Spielen beobachten <b
 r /> und mit unvoreingenommenem Blick wahrnehmen, was es alles kann?</p><p>
 Ich begleite in Situationen, die das erfordern - verbal oder nonverbal - un
 d beantworte deine Fragen, die in direktem Zusammenhang mit dem aktuellen G
 eschehen stehen.</p><p><strong>8 Einheiten und 2 Elterntankstellen.</strong
 ><strong><br /> </strong>Im Mittelpunkt der <strong>2 </strong><a href="htt
 p://eltern-kind-freiraum.at/fr_ef.php"><strong>Elterntankstellen</strong></
 a> - jeweils am Montag, den 26.11. und 7.1. um 19 Uhr - stehen deine Fragen
 , die sich aus dem Spielraum <br /> oder aus dem Alltag mit deiner Familie 
 ergeben.</p><p><strong>Wann</strong>: <strong>Montag</strong> <strong>9.30 
 bis 10.45</strong> UND <strong>11.00 bis 12.15<br /></strong></p><p>Eine Sc
 hnupperstunde ist möglich.<strong><br /></strong>Der Einstieg in diese Spie
 lraum-Gruppe ist jederzeit möglich,<br /> soferne Plätze frei sind.</p><p><
 strong><em><u>FRÜHLINGSKURS </u></em></strong><em>: </em><strong><em>11. Fe
 bruar bis 25. März</em></strong></p><p>Mehr dazu:<a href="http://eltern-kin
 d-freiraum.at/fr7.php"> http://eltern-kind-freiraum.at/fr7.php</a><a href="
 http://www.eltern-kind-freiraum.at"><br /> </a>Elterntankstellen:<a href="h
 ttp://eltern-kind-freiraum.at/fr_ef.php"> http://eltern-kind-freiraum.at/fr
 _ef.php</a> </p><p><strong><em><u>Weitere Gruppen:</u></em></strong></p><p>
 <strong>3 bis 7 Monate: Montag</strong> 12.30 Uhr sowie Einzelstunden nach 
 Vereinbarung</p><p><strong>7 bis 15 Monate: Montag </strong>9.30 Uhr<br /> 
                              <strong>Donnerstag </strong>13.45 Uhr</p><p><s
 trong>15 bis 27 Monate: Dienstag </strong>13.45 Uhr</p><p><strong>2 1/4 bis
  3 1/2 Jahre:</strong> <strong>Montag</strong> 14.30 Uhr</p><p><strong>2 bi
 s 4 Jahre: Donnerstag</strong> 15.25 Uhr<br /> <strong>GeschwisterFreiraum:
  Dienstag</strong> 15.25 Uhr</p><p><a href="http://www.eltern-kind-freiraum
 .at"><strong>www.eltern-kind-freiraum.at</strong></a></p><p> </p>
CONTACT:0676-54 00 246;  voelk@eltern-kind-freiraum.at
X-EXTRAINFO:[preis='2250'][anmeldung='true']
DTSTAMP:20260425T134407
DTSTART:20181119T100000
DTEND:20181119T111500
SEQUENCE:0
RRULE:FREQ=WEEKLY;UNTIL=20190122T000000Z;INTERVAL=1;BYDAY=MO,MO,MO,MO,MO
TRANSP:OPAQUE
END:VEVENT
END:VCALENDAR