BEGIN:VCALENDAR
VERSION:2.0
PRODID:-//jEvents 2.0 for Joomla//EN
CALSCALE:GREGORIAN
METHOD:PUBLISH
BEGIN:VEVENT
UID:0e317cc0b1912bf588414a283475203e
CATEGORIES:7. Bezirk
CREATED:19700101T010000
SUMMARY:PIKLER-Spielraum 7 bis 15 Monate ab 22.11.
LOCATION:1070\, Westbahnstraße 56 - 58
DESCRIPTION:Raum und Zeit\n im eigenen Rhythmus zu spielen, zu entdecken, sich zu spüre
 n,\n alleine - mit anderen \n in deiner liebevollen und wahrnehmenden Begle
 itung,\n die Vertrauen und Sicherheit gibt,\n inspiriert von der selbständi
 gen Bewegungsentwicklung\n nach Emmi Pikler (http://eltern-kind-freiraum.at
 /spielraum.php) und Elfriede Hengstenberg.\nMöchtest du entspannt dein Kind
  beim lustvollen Spielen beobachten \n und mit unvoreingenommenem Blick wah
 rnehmen, was es alles kann?\nIch begleite in Situationen, die das erfordern
  - verbal oder nonverbal - und beantworte deine Fragen, die in direktem Zus
 ammenhang mit dem aktuellen Geschehen stehen.\n8 Einheiten und 2 Elterntank
 stellen.\n Im Mittelpunkt der 2 Elterntankstellen (http://eltern-kind-freir
 aum.at/fr_ef.php) - jeweils am Montag, den 26.11. und 7.1. um 19 Uhr - steh
 en deine Fragen, die sich aus dem Spielraum \n oder aus dem Alltag mit dein
 er Familie ergeben.\nWann: Donnerstag 13.45 bis 15.00\nDer Einstieg in dies
 e Spielraum-Gruppe ist jederzeit möglich,\n soferne Plätze frei sind.\nFRÜH
 LINGSKURS : 14. Februar bis 28. März\nMehr dazu: http://eltern-kind-freirau
 m.at/fr7.php (http://eltern-kind-freiraum.at/fr7.php)\n  (http://www.eltern
 -kind-freiraum.at)Elterntankstellen: http://eltern-kind-freiraum.at/fr_ef.p
 hp (http://eltern-kind-freiraum.at/fr_ef.php) \nWeitere Gruppen:\n3 bis 7 M
 onate: Montag 12.30 Uhr sowie Einzelstunden nach Vereinbarung\n7 bis 15 Mon
 ate: Montag 9.30 und 11.00 Uhr\n\n15 bis 27 Monate: Dienstag 13.45 Uhr\n2 1
 /4 bis 3 1/2 Jahre: Montag 14.30 bis 15.45. Uhr\n2 bis 4 Jahre: Donnerstag 
 15.25 Uhr\n GeschwisterFreiraum: Dienstag 15.25 Uhr\nwww.eltern-kind-freira
 um.at (http://www.eltern-kind-freiraum.at)\n \n
X-ALT-DESC;FMTTYPE=text/html:<p><strong>Raum und Zeit</strong><br /> im eigenen Rhythmus zu spielen, zu 
 entdecken, sich zu spüren,<br /> alleine - mit anderen <br /> in deiner lie
 bevollen und wahrnehmenden Begleitung,<br /> die Vertrauen und Sicherheit g
 ibt,<br /> <strong>inspiriert von der selbständigen Bewegungsentwicklung</s
 trong><br /> <a href="http://eltern-kind-freiraum.at/spielraum.php"><strong
 >nach Emmi Pikler</strong></a><strong> und Elfriede Hengstenberg.</strong><
 /p><p>Möchtest du entspannt dein Kind beim lustvollen Spielen beobachten <b
 r /> und mit unvoreingenommenem Blick wahrnehmen, was es alles kann?</p><p>
 Ich begleite in Situationen, die das erfordern - verbal oder nonverbal - un
 d beantworte deine Fragen, die in direktem Zusammenhang mit dem aktuellen G
 eschehen stehen.</p><p><strong>8 Einheiten und 2 Elterntankstellen.</strong
 ><strong><br /> </strong>Im Mittelpunkt der <strong>2 </strong><a href="htt
 p://eltern-kind-freiraum.at/fr_ef.php"><strong>Elterntankstellen</strong></
 a> - jeweils am Montag, den 26.11. und 7.1. um 19 Uhr - stehen deine Fragen
 , die sich aus dem Spielraum <br /> oder aus dem Alltag mit deiner Familie 
 ergeben.</p><p><strong>Wann</strong>: <strong>Donnerstag 13.45 bis 15.00</s
 trong></p><p>Der Einstieg in diese Spielraum-Gruppe ist jederzeit möglich,<
 br /> soferne Plätze frei sind.</p><p><strong><em><u>FRÜHLINGSKURS </u></em
 ></strong><em>: </em><strong><em>14. Februar bis 28. März</em></strong></p>
 <p>Mehr dazu:<a href="http://eltern-kind-freiraum.at/fr7.php"> http://elter
 n-kind-freiraum.at/fr7.php</a><a href="http://www.eltern-kind-freiraum.at">
 <br /> </a>Elterntankstellen:<a href="http://eltern-kind-freiraum.at/fr_ef.
 php"> http://eltern-kind-freiraum.at/fr_ef.php</a> </p><p><strong><em><u>We
 itere Gruppen:</u></em></strong></p><p><strong>3 bis 7 Monate: Montag</stro
 ng> 12.30 Uhr sowie Einzelstunden nach Vereinbarung</p><p><strong>7 bis 15 
 Monate: Montag </strong>9.30 und 11.00 Uhr<br /><br /><strong>15 bis 27 Mon
 ate: Dienstag </strong>13.45 Uhr<br /><strong>2 1/4 bis 3 1/2 Jahre: Montag
 </strong> 14.30 bis 15.45. Uhr</p><p><strong>2 bis 4 Jahre: Donnerstag</str
 ong> 15.25 Uhr<br /> <strong>GeschwisterFreiraum: Dienstag</strong> 15.25 U
 hr</p><p><a href="http://www.eltern-kind-freiraum.at"><strong>www.eltern-ki
 nd-freiraum.at</strong></a></p><p> </p>
CONTACT:0676-54 00 246; voelk@eltern-kind-freiraum.at
X-EXTRAINFO:[preis='2250'][anmeldung='true']
DTSTAMP:20260425T152640
DTSTART:20181122T124500
DTEND:20181122T140000
SEQUENCE:0
RRULE:FREQ=WEEKLY;COUNT=9999;INTERVAL=1;BYDAY=TH,TH,TH,TH,TH
TRANSP:OPAQUE
END:VEVENT
END:VCALENDAR