BEGIN:VCALENDAR
VERSION:2.0
PRODID:-//jEvents 2.0 for Joomla//EN
CALSCALE:GREGORIAN
METHOD:PUBLISH
BEGIN:VEVENT
UID:fc65ab876a9e423448617e0e3e4a4b08
CATEGORIES:7. Bezirk
CREATED:19700101T010000
SUMMARY:HENGSTENBERG-Spielraum 2 bis 4 Jahre ab 22.11.
LOCATION:1070\, Westbahnstraße 56 - 58
DESCRIPTION:Raum und Zeit\n Möchtest du entspannt dein Kind beim lustvollen Spielen beo
 bachten \n und mit unvoreingenommenem Blick wahrnehmen, was es alles kann?\
 nInspiriert von der selbständigen Bewegungsentwicklung\n nach Elfriede Heng
 stenberg und nach Emmi Pikler. (http://eltern-kind-freiraum.at/spielraum.ph
 p) \n\nIch begleite in Situationen, die das erfordern - verbal oder nonverb
 al\nund beantworte deine Fragen, die in direktem Zusammenhang mit dem aktue
 llen Geschehen stehen.\n8 Einheiten und 2 Elterntankstellen.\n Im Mittelpun
 kt der 2 Elterntankstellen (http://eltern-kind-freiraum.at/fr_ef.php) - jew
 eils am Montag, den 26.11. und 7.1. um 19 Uhr - stehen deine Fragen, die si
 ch aus dem Spielraum \n oder aus dem Alltag mit deiner Familie ergeben.\nWa
 nn: jeweils Donnerstag 15.30 bis 16.45\nDer Einstieg in diese Spielraum-Gru
 ppe ist jederzeit möglich,\n soferne Plätze frei sind.\nFRÜHLINGSKURS : 14.
  Februar bis 28. März\nMehr dazu: http://eltern-kind-freiraum.at/fr24.php (
 https://eltern-kind-freiraum.at/fr24.php)\n  (http://www.eltern-kind-freira
 um.at)Elterntankstellen: http://eltern-kind-freiraum.at/fr_ef.php (http://e
 ltern-kind-freiraum.at/fr_ef.php) \nWeitere Gruppen:\n3 bis 7 Monate: Monta
 g 12.30 Uhr sowie Einzelstunden nach Vereinbarung\n7 bis 15 Monate: Montag 
 9.30 und 11.00 Uhr  \n                            Donnerstag 13.45 Uhr\n15 
 bis 27 Monate: Dienstag 13.45 Uhr\nGeschwisterFreiraum: Dienstag 15.25 Uhr\
 nwww.eltern-kind-freiraum.at (http://www.eltern-kind-freiraum.at)\n \n
X-ALT-DESC;FMTTYPE=text/html:<p><strong>Raum und Zeit</strong><br /> Möchtest du entspannt dein Kind bei
 m lustvollen Spielen beobachten <br /> und mit unvoreingenommenem Blick wah
 rnehmen, was es alles kann?<br />Inspiriert von der<strong> selbständigen B
 ewegungsentwicklung</strong><br /> nach<strong> Elfriede Hengstenberg </str
 ong>und<strong> <a href="http://eltern-kind-freiraum.at/spielraum.php">nach
  Emmi Pikler.</a> <br /></strong></p><p>Ich begleite in Situationen, die da
 s erfordern - verbal oder nonverbal<br />und beantworte deine Fragen, die i
 n direktem Zusammenhang mit dem aktuellen Geschehen stehen.</p><p><strong>8
  Einheiten und 2 Elterntankstellen.</strong><strong><br /> </strong>Im Mitt
 elpunkt der <strong>2 </strong><a href="http://eltern-kind-freiraum.at/fr_e
 f.php"><strong>Elterntankstellen</strong></a> - jeweils am Montag, den 26.1
 1. und 7.1. um 19 Uhr - stehen deine Fragen, die sich aus dem Spielraum <br
  /> oder aus dem Alltag mit deiner Familie ergeben.</p><p><strong>Wann</str
 ong>: jeweils Donnerstag 15.30 bis 16.45</p><p>Der Einstieg in diese Spielr
 aum-Gruppe ist jederzeit möglich,<br /> soferne Plätze frei sind.</p><p><em
 ><strong>FRÜHLINGSKURS </strong>: <strong>14. Februar bis 28. März</strong>
 </em></p><p>Mehr dazu: <a href="https://eltern-kind-freiraum.at/fr24.php">h
 ttp://eltern-kind-freiraum.at/fr24.php</a><a href="http://www.eltern-kind-f
 reiraum.at"><br /> </a>Elterntankstellen:<a href="http://eltern-kind-freira
 um.at/fr_ef.php"> http://eltern-kind-freiraum.at/fr_ef.php</a> </p><p><em><
 strong>Weitere Gruppen:</strong></em></p><p><strong>3 bis 7 Monate: Montag<
 /strong> 12.30 Uhr sowie Einzelstunden nach Vereinbarung</p><p><strong>7 bi
 s 15 Monate: Montag </strong>9.30 und 11.00 Uhr  <br />                    
         <strong>Donnerstag </strong>13.45 Uhr</p><p><strong>15 bis 27 Monat
 e: Dienstag </strong>13.45 Uhr</p><p><strong>GeschwisterFreiraum: Dienstag<
 /strong> 15.25 Uhr</p><p><a href="http://www.eltern-kind-freiraum.at"><stro
 ng>www.eltern-kind-freiraum.at</strong></a></p><p> </p>
CONTACT:0676-54 00 246; voelk@eltern-kind-freiraum.at
X-EXTRAINFO:[preis='2250'][anmeldung='false']
DTSTAMP:20260425T120327
DTSTART:20181122T143000
DTEND:20181122T154500
SEQUENCE:0
RRULE:FREQ=WEEKLY;COUNT=9999;INTERVAL=1;BYDAY=TH,TH,TH,TH,TH
TRANSP:OPAQUE
END:VEVENT
END:VCALENDAR