BEGIN:VCALENDAR
VERSION:2.0
PRODID:-//jEvents 2.0 for Joomla//EN
CALSCALE:GREGORIAN
METHOD:PUBLISH
BEGIN:VEVENT
UID:cf8692e584df6f8aa3cad99b2c3047d8
CATEGORIES:7. Bezirk
CREATED:19700101T010000
SUMMARY:HENGSTENBERG-Spielraum 2 1/4 bis 3 1/2 Jahre ab 3.12.
LOCATION:1070\, Westbahnstraße 56 - 58
DESCRIPTION:Möchtest du entspannt dein Kind beim lustvollen Spielen beobachten \n und m
 it unvoreingenommenem Blick wahrnehmen, was es alles kann?\n Inspiriert von
  der selbständigen Bewegungsentwicklung\n nach Elfriede Hengstenberg und na
 ch Emmi Pikler. (http://eltern-kind-freiraum.at/spielraum.php) \nIch beglei
 te in Situationen, die das erfordern - verbal oder nonverbal\n und beantwor
 te deine Fragen, die in direktem Zusammenhang mit dem aktuellen Geschehen s
 tehen.\n6 Einheiten und 1 Elterntankstelle.\n Im Mittelpunkt der Elterntank
 stelle (http://eltern-kind-freiraum.at/fr_ef.php) - am Montag, den 7.1. um 
 19 Uhr - stehen deine Fragen, die sich aus dem Spielraum \n oder aus dem Al
 ltag mit deiner Familie ergeben.\nWann: jeweils Montag von 14.30 bis 15.45\
 nDer Einstieg in diese Spielraum-Gruppe ist jederzeit möglich,\n soferne Pl
 ätze frei sind.\nSchnuppern ist möglich.\nFRÜHLINGSKURS : 11. Februar bis 2
 5. März\nMehr dazu: http://eltern-kind-freiraum.at/fr7.php (http://eltern-k
 ind-freiraum.at/fr7.php)\n  (http://www.eltern-kind-freiraum.at)Elterntanks
 tellen: http://eltern-kind-freiraum.at/fr_ef.php (http://eltern-kind-freira
 um.at/fr_ef.php) \nWeitere Gruppen:\n3 bis 7 Monate: Montag 12.30 Uhr sowie
  Einzelstunden nach Vereinbarung\n7 bis 15 Monate: Montag 9.30 und 11.00 Uh
 r  \n                            Donnerstag 13.45 Uhr\n15 bis 27 Monate: Di
 enstag 13.45 Uhr\n2 bis 4 Jahre: Donnerstag 15.30 Uhr\nGeschwisterFreiraum:
  Dienstag 15.25 Uhr\nwww.eltern-kind-freiraum.at (http://www.eltern-kind-fr
 eiraum.at)\n
X-ALT-DESC;FMTTYPE=text/html:<p>Möchtest du entspannt dein Kind beim lustvollen Spielen beobachten <br /
 > und mit unvoreingenommenem Blick wahrnehmen, was es alles kann?<br /> Ins
 piriert von der<strong> selbständigen Bewegungsentwicklung</strong><br /> n
 ach<strong> Elfriede Hengstenberg </strong>und<strong> <a href="http://elte
 rn-kind-freiraum.at/spielraum.php">nach Emmi Pikler.</a> </strong></p><p>Ic
 h begleite in Situationen, die das erfordern - verbal oder nonverbal<br /> 
 und beantworte deine Fragen, die in direktem Zusammenhang mit dem aktuellen
  Geschehen stehen.</p><p><strong>6 Einheiten und 1 Elterntankstelle.</stron
 g><strong><br /> </strong>Im Mittelpunkt der <a href="http://eltern-kind-fr
 eiraum.at/fr_ef.php"><strong>Elterntankstelle</strong></a> - am Montag, den
  7.1. um 19 Uhr - stehen deine Fragen, die sich aus dem Spielraum <br /> od
 er aus dem Alltag mit deiner Familie ergeben.</p><p><strong>Wann</strong>: 
 jeweils Montag von 14.30 bis 15.45</p><p>Der Einstieg in diese Spielraum-Gr
 uppe ist jederzeit möglich,<br /> soferne Plätze frei sind.<br />Schnuppern
  ist möglich.</p><p><strong><em>FRÜHLINGSKURS </em></strong><em>: </em><str
 ong><em>11. Februar bis 25. März</em></strong></p><p>Mehr dazu:<a href="htt
 p://eltern-kind-freiraum.at/fr7.php"> http://eltern-kind-freiraum.at/fr7.ph
 p</a><a href="http://www.eltern-kind-freiraum.at"><br /> </a>Elterntankstel
 len:<a href="http://eltern-kind-freiraum.at/fr_ef.php"> http://eltern-kind-
 freiraum.at/fr_ef.php</a> </p><p><strong><em>Weitere Gruppen:</em></strong>
 </p><p><strong>3 bis 7 Monate: Montag</strong> 12.30 Uhr sowie Einzelstunde
 n nach Vereinbarung</p><p><strong>7 bis 15 Monate: Montag </strong>9.30 und
  11.00 Uhr  <br />                            <strong>Donnerstag </strong>1
 3.45 Uhr</p><p><strong>15 bis 27 Monate: Dienstag </strong>13.45 Uhr</p><p>
 <strong>2 bis 4 Jahre: Donnerstag</strong> 15.30 Uhr</p><p><strong>Geschwis
 terFreiraum: Dienstag</strong> 15.25 Uhr</p><p><a href="http://www.eltern-k
 ind-freiraum.at"><strong>www.eltern-kind-freiraum.at</strong></a></p>
CONTACT:0676-54 00 246
X-EXTRAINFO:[preis='2250'][anmeldung='false']
DTSTAMP:20260425T153857
DTSTART:20181207T133000
DTEND:20181207T144500
SEQUENCE:0
RRULE:FREQ=WEEKLY;COUNT=9999;INTERVAL=1;BYDAY=MO,FR,MO,FR,MO,FR,MO,FR,MO,FR
TRANSP:OPAQUE
END:VEVENT
END:VCALENDAR