BEGIN:VCALENDAR
VERSION:2.0
PRODID:-//jEvents 2.0 for Joomla//EN
CALSCALE:GREGORIAN
METHOD:PUBLISH
BEGIN:VEVENT
UID:4217f6b2e4976f56436b604ce5fe18b3
CATEGORIES:6. Bezirk
CREATED:20181112T084436
SUMMARY:Erkältungshausmittel für Kinder
LOCATION:Biolino\, Sandwirtgasse 13/12\, Wien 1060
DESCRIPTION:In diesem Kurz-Workshop lernst du die gängigsten, kinderfreundlichen Hausmi
 tteln kennen, die euch durch die Erkältungssaison begleiten können.\n\nTrad
 itionelle Rezepte und Anwendungen spielen ebenso eine Rolle wie der richtig
 e Umgang mit ätherischen Ölen.\n\nUm sich selbst zu helfen braucht es nicht
  viel Zubehör, ein wenig Wissen rund um Krankheit und Gesundheit, und die r
 ichtigen Zutaten sind schnell gefunden!\n\nBesonders wichtig ist die gesche
 nkte Zuwendung bei der Anwendung von Hausmitteln, daher sind alle Rezepte r
 uck-zuck zuzubereitet. Spart Zeit und Nerven, und du kannst dich deinem kra
 nken Kind widmen!\n\n***********************************************\nAnmel
 dung für das Eltern Cafe+ im Biolino (https://www.facebook.com/Biolino.Inst
 itut.Magazin.Handel/) unter: claudia@kinderhausmittel.com // beschränkte Te
 ilnehmerInnenzahl // Kursbeitrag: 20,- Euro inklusive Skript und Material /
 / Dauer 1,5 Stunden // Kinder können selbstverständlich mit dabei sein! // 
 Fragen und Anmeldung: claudia@kinderhausmittel.com\nWeitere Infos: www.kind
 erhausmittel.com (https://l.facebook.com/l.php?u=http%3A%2F%2Fwww.kinderhau
 smittel.com%2F%3Ffbclid%3DIwAR29fejm_y6Pqd5liRAVRhoAzIyCqsjyOo6H6j9HsnTIOdy
 KGKHRBQknnIA&amp;h=AT1_CjKlq0dwyhpr8PiJ1oyu4W1Pfe7Mz1Gk7MVgfRNLCiiNAPgNLZuc
 2rhKFCmCjWyv8iENKVfJAsB53CUzlJT3oazvT2MlYA3AqjM2ZsBTwn-ONWE0EniYOjnFeXx3fmc
 )\nOrt: Biolino, Sandwirtgasse 13/12, Wien 1060\n
X-ALT-DESC;FMTTYPE=text/html:<p><strong>In diesem Kurz-Workshop lernst du die gängigsten, kinderfreundli
 chen Hausmitteln kennen, die euch durch die Erkältungssaison begleiten könn
 en.</strong><br /><br />Traditionelle Rezepte und Anwendungen spielen ebens
 o eine Rolle wie der richtige Umgang mit ätherischen Ölen.<br /><br /><stro
 ng>Um sich selbst zu helfen braucht es nicht viel Zubehör, ein wenig Wissen
  rund um Krankheit und Gesundheit, und die richtigen Zutaten sind schnell g
 efunden!</strong><br /><br />Besonders wichtig ist die geschenkte Zuwendung
  bei der Anwendung von Hausmitteln, daher sind alle Rezepte ruck-zuck zuzub
 ereitet. Spart Zeit und Nerven, und du kannst dich deinem kranken Kind widm
 en!</p><p><br />***********************************************<br />Anmeld
 ung für das Eltern Cafe+ im <a href="https://www.facebook.com/Biolino.Insti
 tut.Magazin.Handel/" target="_blank" rel="noopener noreferrer">Biolino</a> 
 unter: claudia@kinderhausmittel.com // beschränkte TeilnehmerInnenzahl // K
 ursbeitrag: 20,- Euro inklusive Skript und Material // Dauer 1,5 Stunden //
  Kinder können selbstverständlich mit dabei sein! // Fragen und Anmeldung: 
 claudia@kinderhausmittel.com<br />Weitere Infos: <a href="https://l.faceboo
 k.com/l.php?u=http%3A%2F%2Fwww.kinderhausmittel.com%2F%3Ffbclid%3DIwAR29fej
 m_y6Pqd5liRAVRhoAzIyCqsjyOo6H6j9HsnTIOdyKGKHRBQknnIA&amp;h=AT1_CjKlq0dwyhpr
 8PiJ1oyu4W1Pfe7Mz1Gk7MVgfRNLCiiNAPgNLZuc2rhKFCmCjWyv8iENKVfJAsB53CUzlJT3oaz
 vT2MlYA3AqjM2ZsBTwn-ONWE0EniYOjnFeXx3fmc" target="_blank" rel="nofollow noo
 pener noreferrer" data-lynx-mode="hover">www.kinderhausmittel.com</a></p><p
 >Ort: Biolino, Sandwirtgasse 13/12, Wien 1060</p>
CONTACT:www.kinderhausmittel.com
X-EXTRAINFO:[preis='2000'][anmeldung='true']
DTSTAMP:20260423T152719
DTSTART:20190121T090000
DTEND:20190121T103000
SEQUENCE:0
TRANSP:OPAQUE
END:VEVENT
END:VCALENDAR