BEGIN:VCALENDAR
VERSION:2.0
PRODID:-//jEvents 2.0 for Joomla//EN
CALSCALE:GREGORIAN
METHOD:PUBLISH
BEGIN:VEVENT
UID:a4ad3240b4cead59bd91a5dfcfc0322f
CATEGORIES:10. Bezirk
CREATED:19700101T010000
SUMMARY:Kinder mögen Hausmittel
LOCATION:pin 	 Kindersportclub.at\, Absbergasse 45a\, 1100 Wien
DESCRIPTION:Danke für die Einladung an den #Kindersportclub (https://www.facebook.com/h
 ashtag/kindersportclub) von Lucy Rosenfelder!\n\nHier ein kurzer Überblick 
 über die Themen dieses gemeinsamen Abends: \n\n#Hausmittel (https://www.fac
 ebook.com/hashtag/hausmittel) eignen sich besonders gut um Kinder durch die
  #Erkältungszeit (https://www.facebook.com/hashtag/erk%C3%A4ltungszeit) zu 
 begleiten. Wie? Das entdecken wir gemeinsam!\n\nWas erwartet dich in diesem
  Kurz-Workshop?\n*Wir probieren einfache Erkältungs-Anwendungen gemeinsam a
 us,\n*Wir tauschen Tipps und Tricks aus, um Kinder für die Hausmittel-Anwen
 dungen zu gewinnen,\n*Wir überlegen, was aus unserem Haushalt verwendbar is
 t,\n*Wir lernen Zutaten aus unserem Küchenschrank kennen, die rasch und spo
 ntan zur Verfügung stehen.\n\nAm Ende kann jede/r ein Badesalz mit nach Hau
 se nehmen um damit gleich ein erstes Fußbad zu genießen.\n\n---------------
 --------------------------------------------------------------\nEUR 15,- in
 kl. Material + Rezeptsammlung für zu Hause // Anmeldung unbedingt erforderl
 ich // office@kindersportclub.at\nBeschränkte TeilnehmerInnenzahl // weiter
 e INFOS: www.kinderhausmittel.com (https://l.facebook.com/l.php?u=http%3A%2
 F%2Fwww.kinderhausmittel.com%2F%3Ffbclid%3DIwAR1MyhyexerVuEaEgSI-9xQ3H6Z9Q1
 Rz91F_t6dTVBaANeTzN9MB0EmCeLo&amp;h=AT3u_RQy3J9ildgrMjn9nkbqdtIyczBfI-H3NTQ
 BUVb_6QxzCZt47ICNxsySpvx8P9X97kegBoM8V1TKM6zHs0x2UlbWpi17eySjbC_gRI7OmvVdQD
 w182PvyYeggfCiy7c)\n
X-ALT-DESC;FMTTYPE=text/html:<p>Danke für die Einladung an den <a href="https://www.facebook.com/hashtag
 /kindersportclub" target="_blank" rel="noopener noreferrer">#Kindersportclu
 b</a> von Lucy Rosenfelder!<br /><br />Hier ein kurzer Überblick über die T
 hemen dieses gemeinsamen Abends: <br /><br /><a href="https://www.facebook.
 com/hashtag/hausmittel" target="_blank" rel="noopener noreferrer">#<strong>
 Hausmittel</strong></a><strong> eignen sich besonders gut um Kinder durch d
 ie <a href="https://www.facebook.com/hashtag/erk%C3%A4ltungszeit" target="_
 blank" rel="noopener noreferrer">#Erkältungszeit</a> zu begleiten. Wie? Das
  entdecken wir gemeinsam!</strong><br /><br /><strong>Was erwartet dich in 
 diesem Kurz-Workshop?</strong><br />*Wir probieren einfache <strong>Erkältu
 ngs-Anwendungen</strong> gemeinsam aus,<br />*Wir tauschen<strong> Tipps un
 d Tricks</strong> aus, um Kinder für die Hausmittel-Anwendungen zu gewinnen
 ,<br />*Wir überlegen, was aus unserem Haushalt verwendbar ist,<br />*Wir l
 ernen <strong>Zutaten</strong> aus unserem Küchenschrank kennen, die rasch 
 und spontan zur Verfügung stehen.<br /><br /><strong>Am Ende kann jede/r ei
 n Badesalz mit nach Hause nehmen um damit gleich ein erstes Fußbad zu genie
 ßen.</strong><br /><br />--------------------------------------------------
 ---------------------------<br />EUR 15,- inkl. Material + Rezeptsammlung f
 ür zu Hause // Anmeldung unbedingt erforderlich // office@kindersportclub.a
 t<br />Beschränkte TeilnehmerInnenzahl // weitere INFOS: <a href="https://l
 .facebook.com/l.php?u=http%3A%2F%2Fwww.kinderhausmittel.com%2F%3Ffbclid%3DI
 wAR1MyhyexerVuEaEgSI-9xQ3H6Z9Q1Rz91F_t6dTVBaANeTzN9MB0EmCeLo&amp;h=AT3u_RQy
 3J9ildgrMjn9nkbqdtIyczBfI-H3NTQBUVb_6QxzCZt47ICNxsySpvx8P9X97kegBoM8V1TKM6z
 Hs0x2UlbWpi17eySjbC_gRI7OmvVdQDw182PvyYeggfCiy7c" target="_blank" rel="nofo
 llow noopener noreferrer" data-lynx-mode="hover">www.kinderhausmittel.com</
 a></p>
CONTACT:office@kindersportclub.at
X-EXTRAINFO:[preis='1500'][anmeldung='true']
DTSTAMP:20260424T125155
DTSTART:20190201T180000
DTEND:20190201T193000
SEQUENCE:0
TRANSP:OPAQUE
END:VEVENT
END:VCALENDAR