BEGIN:VCALENDAR
VERSION:2.0
PRODID:-//jEvents 2.0 for Joomla//EN
CALSCALE:GREGORIAN
METHOD:PUBLISH
BEGIN:VEVENT
UID:a81093a95b63ed1c01eafe3f322ee34b
CATEGORIES:2. Bezirk
CREATED:20181113T172744
SUMMARY:Schnupper-Workshop "Bewusste Eltern"
LOCATION:Taborstraße 78\, 1020 Wien
DESCRIPTION:Liebe Babymamas,\nviele Mütter leiden unter Stress und Überforderung, weil 
 sie allen Bedürfnissen ihrer Babys und vielleicht auch noch der älteren Ges
 chwister immer gerecht werden wollen. Das muss nicht sein.\nIn diesem Works
 hop beleuchten wir aus (leicht verständlicher) neurowissenschaftlicher Sich
 t die Gehirnentwicklung und alle mentalen und emotionalen Vorgänge im Gehir
 n von Babys, Kindern und Erwachsenen. Du erhältst neue interessante Informa
 tionen und auch viele Möglichkeiten, Dein "Mind-Set", das bisher zu Stress 
 führte, zu überdenken und zu verändern. \nWir erkunden gemeinsam unser inne
 res blitzschnell ablaufendes Reiz-/Reaktions-Muster, sehen uns an, woher un
 sere teils sehr hohen Ansprüche an uns selbst kommen, immer alles "richtig 
 und gut" machen zu wollen, die oft zu Stress und Überforderung führen und f
 inden Lösungen, um aus diesem Hamsterrad auszusteigen.\nJe gelassener Du se
 lbst im Alltag mit Deinen Kindern bist, desto entspannter und ruhiger sind 
 Deine Kinder. \nVeranstalterin: Margit Dechel, Dipl. Familienberaterin\nNäh
 ere Infos und Buchung auf www.bewusste-eltern.at (https://www.bewusste-elte
 rn.at/workshops/23-schnupper-workshop)\n
X-ALT-DESC;FMTTYPE=text/html:<p>Liebe Babymamas,</p><p>viele Mütter leiden unter Stress und Überforderun
 g, weil sie allen Bedürfnissen ihrer Babys und vielleicht auch noch der ält
 eren Geschwister immer gerecht werden wollen. Das muss nicht sein.</p><p>In
  diesem Workshop beleuchten wir aus (leicht verständlicher) neurowissenscha
 ftlicher Sicht die Gehirnentwicklung und alle mentalen und emotionalen Vorg
 änge im Gehirn von Babys, Kindern und Erwachsenen. Du erhältst neue interes
 sante Informationen und auch viele Möglichkeiten, Dein "Mind-Set", das bish
 er zu Stress führte, zu überdenken und zu verändern. </p><p>Wir erkunden ge
 meinsam unser inneres blitzschnell ablaufendes Reiz-/Reaktions-Muster, sehe
 n uns an, woher unsere teils sehr hohen Ansprüche an uns selbst kommen, imm
 er alles "richtig und gut" machen zu wollen, die oft zu Stress und Überford
 erung führen und finden Lösungen, um aus diesem Hamsterrad auszusteigen.</p
 ><p>Je gelassener Du selbst im Alltag mit Deinen Kindern bist, desto entspa
 nnter und ruhiger sind Deine Kinder. </p><p>Veranstalterin: Margit Dechel, 
 Dipl. Familienberaterin</p><p>Nähere Infos und Buchung auf <a href="https:/
 /www.bewusste-eltern.at/workshops/23-schnupper-workshop">www.bewusste-elter
 n.at</a></p>
CONTACT:m.dechel@bewusste-eltern.at
X-EXTRAINFO:[preis='2900'][anmeldung='true']
DTSTAMP:20260425T152811
DTSTART:20190107T160000
DTEND:20190107T173000
SEQUENCE:0
TRANSP:OPAQUE
END:VEVENT
END:VCALENDAR