BEGIN:VCALENDAR
VERSION:2.0
PRODID:-//jEvents 2.0 for Joomla//EN
CALSCALE:GREGORIAN
METHOD:PUBLISH
BEGIN:VEVENT
UID:138e44743e82d53f1c69d2cff9787245
CATEGORIES:2. Bezirk
CREATED:20181113T173100
SUMMARY:Schnupper-Workshop "Bewusste Eltern"
LOCATION:Taborstraße 78\, 1020 Wien
DESCRIPTION:Liebe Babymamas,\nviele Mütter leiden unter Stress und Überforderung, weil 
 sie allen Bedürfnissen ihrer Babies und vielleicht auch noch der älteren Ge
 schwister immer gerecht werden wollen. Das muss nicht sein.\nIn diesem Work
 shop beleuchten wir aus (leicht verständlicher) neurowissenschaftlicher Sic
 ht die Gehirnentwicklung und alle mentalen und emotionalen Vorgänge im Gehi
 rn von Babies, Kindern und Erwachsenen. Du erhältst neue interessante Infor
 mationen und auch viele Möglichkeiten, Dein "Mind-Set", das bisher zu Stres
 s führte, zu überdenken und zu verändern. \nWir erkunden gemeinsam unser in
 neres blitzschnell ablaufendes Reiz-/Reaktionsmuster, sehen uns an, woher u
 nsere teils sehr hohen Ansprüche an uns selbst kommen, immer alles "richtig
  und gut" machen zu wollen, die oft zu Stress und Überforderung führen und 
 finden Lösungen, um aus diesem Hamsterrad auszusteigen.\nJe gelassener Du s
 elbst im Alltag mit Deinen Kindern bist, desto entspannter und ruhiger sind
  Deine Kinder. \nVeranstalterin: Margit Dechel, Dipl. Familienberaterin\nNä
 here Infos und Buchung auf www.bewusste-eltern.at (https://www.bewusste-elt
 ern.at/workshops/23-schnupper-workshop)\n \n
X-ALT-DESC;FMTTYPE=text/html:<p>Liebe Babymamas,</p><p>viele Mütter leiden unter Stress und Überforderun
 g, weil sie allen Bedürfnissen ihrer Babies und vielleicht auch noch der äl
 teren Geschwister immer gerecht werden wollen. Das muss nicht sein.</p><p>I
 n diesem Workshop beleuchten wir aus (leicht verständlicher) neurowissensch
 aftlicher Sicht die Gehirnentwicklung und alle mentalen und emotionalen Vor
 gänge im Gehirn von Babies, Kindern und Erwachsenen. Du erhältst neue inter
 essante Informationen und auch viele Möglichkeiten, Dein "Mind-Set", das bi
 sher zu Stress führte, zu überdenken und zu verändern. </p><p>Wir erkunden 
 gemeinsam unser inneres blitzschnell ablaufendes Reiz-/Reaktionsmuster, seh
 en uns an, woher unsere teils sehr hohen Ansprüche an uns selbst kommen, im
 mer alles "richtig und gut" machen zu wollen, die oft zu Stress und Überfor
 derung führen und finden Lösungen, um aus diesem Hamsterrad auszusteigen.</
 p><p>Je gelassener Du selbst im Alltag mit Deinen Kindern bist, desto entsp
 annter und ruhiger sind Deine Kinder. </p><p>Veranstalterin: Margit Dechel,
  Dipl. Familienberaterin</p><p>Nähere Infos und Buchung auf <a href="https:
 //www.bewusste-eltern.at/workshops/23-schnupper-workshop">www.bewusste-elte
 rn.at</a></p><p> </p>
CONTACT:m.dechel@bewusste-eltern.at
X-EXTRAINFO:[preis='2900'][anmeldung='false']
DTSTAMP:20260423T152715
DTSTART:20190109T083000
DTEND:20190109T100000
SEQUENCE:0
TRANSP:OPAQUE
END:VEVENT
END:VCALENDAR