BEGIN:VCALENDAR
VERSION:2.0
PRODID:-//jEvents 2.0 for Joomla//EN
CALSCALE:GREGORIAN
METHOD:PUBLISH
BEGIN:VEVENT
UID:bcd99ace0c271da74e752ae79f649c60
CATEGORIES:12. Bezirk
CREATED:19700101T010000
SUMMARY:MUSIKMÄUSE 2-3 J.
LOCATION:2-Klang Studio WIEN
DESCRIPTION:<p>Eine musikalische Reise für unsere kleinsten Musikgäste im 2-Klang Studi
 o!</p><p>5 bunte Stunden für Mama und Kind um in die Welt der Musik, Melodi
 en und Instrumente hineinzuschnuppern.</p><p>Weitere Termine bei Anmeldung 
 5 x 50 min.</p><p>Wir freuen uns auf Euch!</p><p>Judith und die Musikmaus</
 p>
CONTACT:studio@2-Klang.at
X-EXTRAINFO:[preis='7500'][anmeldung='true']
DTSTAMP:20260425T120553
DTSTART:20181206T090000
DTEND:20181206T095000
SEQUENCE:0
RRULE:FREQ=WEEKLY;COUNT=5;INTERVAL=1;BYDAY=TH,TH,TH,TH,TH
TRANSP:OPAQUE
END:VEVENT
END:VCALENDAR