BEGIN:VCALENDAR
VERSION:2.0
PRODID:-//jEvents 2.0 for Joomla//EN
CALSCALE:GREGORIAN
METHOD:PUBLISH
BEGIN:VEVENT
UID:c082aff660dd5105c6a446d40037d125
CATEGORIES:15. Bezirk
CREATED:20181119T032103
SUMMARY:MASKEN, HÜTE & CO. :  Wochenend-Workshop für Kinder von 6 bis 9 Jahren
LOCATION:Löhrgasse 10\, 1150 Wien
DESCRIPTION:<p>Wer will ich sein? Wie will ich sein und wie will ich mich verwandeln? …
  Masken, malen, schneiden, kleben, lustige Hüte und Frisuren erfinden, Gesi
 cht, Arme und Beine schminken und dann in veränderten Gestalt tanzen, hüpfe
 n, springen, spielen,… und Gemaltes/Erfundenes in Tanz verwandeln,…</p><p> 
 </p>
X-EXTRAINFO:[preis='6000'][anmeldung='true']
DTSTAMP:20260425T154212
DTSTART:20190119T130000
DTEND:20190119T170000
SEQUENCE:0
TRANSP:OPAQUE
END:VEVENT
END:VCALENDAR