BEGIN:VCALENDAR
VERSION:2.0
PRODID:-//jEvents 2.0 for Joomla//EN
CALSCALE:GREGORIAN
METHOD:PUBLISH
BEGIN:VEVENT
UID:85e0d0e208d6d94926f8807c19fbf49c
CATEGORIES:14. Bezirk
CREATED:19700101T010000
SUMMARY:pilates
LOCATION:Breitenseerstraße 20-22/6\, 1140 Wien
DESCRIPTION:<div class="layoutArea"><div class="column"><p>liebste mamas &amp; papas!<b
 r />so schön &amp; wichtig es ist mit dem eigenen kind zu spiel, zu kuschel
 n, zeit zu verbringen, so schön &amp; wichtig ist es auch, sich nicht selbs
 t zu vergessen und seine eigene mitte wieder zu finden. sich eine auszeit a
 us dem alltag zu nehmen.</p><p>ich glaube, dass wir gemeinsam beim pilates 
 genau das erreichen.</p><p>zeit für <strong>dich</strong><br />zeit für<str
 ong> deine mitte</strong><br />zeit für <strong>dein powerhouse</strong><br
  />zeit sich die sorgen <strong>von der seele</strong> zu reden mit gleichg
 esinnten<br />zeit um zu<strong> lachen</strong> und sich was<strong> gutes
  tut.</strong></p><p>wann:    15.01.-12.02.2019 <br />             <strong>
 dienstags 18:30-19:30</strong></p><p>wie oft:  5 termine</p><p>preis:     €
  65,-</p><p>wo:       therapie in breitensee breitenseerstr. 20-22/6, 1140 
 wien</p></div></div><div class="layoutArea"><div class="column"><p>melde di
 ch einfach bei mir julia (0660-629 71 01) oder unter <a href="mailto:traini
 ng@hagju.com">training@hagju.com</a> an.</p><p>ich freu mich schon auf den 
 kurs mit dir. </p><p>eure julia aka hag*ju<br /><a href="http://www.hagju.c
 om/">www.hagju.com</a> </p></div></div>
CONTACT:julia
X-EXTRAINFO:[preis='6500'][anmeldung='true']
DTSTAMP:20260423T170127
DTSTART:20190115T173000
DTEND:20190115T183000
SEQUENCE:0
RRULE:FREQ=WEEKLY;UNTIL=20190213T000000Z;INTERVAL=1;BYDAY=TU
TRANSP:OPAQUE
END:VEVENT
END:VCALENDAR