BEGIN:VCALENDAR
VERSION:2.0
PRODID:-//jEvents 2.0 for Joomla//EN
CALSCALE:GREGORIAN
METHOD:PUBLISH
BEGIN:VEVENT
UID:9316a7c7f4f905a5605ff5a79dbf9f51
CATEGORIES:14. Bezirk
CREATED:19700101T010000
SUMMARY:pilates
LOCATION:breitenseerstraße 20-22/6\, 1140 wien
DESCRIPTION:liebste mamas &amp; papas!\nso schön &amp; wichtig es ist mit dem eigenen k
 ind zu spiel, zu kuscheln, zeit zu verbringen, so schön &amp; wichtig ist e
 s auch, sich nicht selbst zu vergessen und seine eigene mitte wieder zu fin
 den. sich eine auszeit aus dem alltag zu nehmen.\nich glaube, dass wir geme
 insam beim pilates genau das erreichen.\nzeit für dich\nzeit für deine mitt
 e\nzeit für dein powerhouse\nzeit sich die sorgen von der seele zu reden mi
 t gleichgesinnten\nzeit um zu lachen und sich was gutes tut.\nwann:    15.0
 1.-12.02.2019 \n             dienstags 09:30-10:30\nwie oft:  5 termine\npr
 eis:     € 65,-\nwo:       therapie in breitensee breitenseerstr. 20-22/6, 
 1140 wien\nmelde dich einfach bei mir julia (0660-629 71 01) oder unter tra
 ining@hagju.com (mailto:training@hagju.com) an.\nich freu mich schon auf de
 n kurs mit dir. \neure julia aka hag*ju\nwww.hagju.com (http://www.hagju.co
 m/) \n
X-ALT-DESC;FMTTYPE=text/html:<div class="layoutArea"><div class="column"><p>liebste mamas &amp; papas!<b
 r />so schön &amp; wichtig es ist mit dem eigenen kind zu spiel, zu kuschel
 n, zeit zu verbringen, so schön &amp; wichtig ist es auch, sich nicht selbs
 t zu vergessen und seine eigene mitte wieder zu finden. sich eine auszeit a
 us dem alltag zu nehmen.</p><p>ich glaube, dass wir gemeinsam beim pilates 
 genau das erreichen.</p><p>zeit für <strong>dich</strong><br />zeit für<str
 ong> deine mitte</strong><br />zeit für <strong>dein powerhouse</strong><br
  />zeit sich die sorgen <strong>von der seele</strong> zu reden mit gleichg
 esinnten<br />zeit um zu<strong> lachen</strong> und sich was<strong> gutes
  tut.</strong></p><p>wann:    15.01.-12.02.2019 <br />             <strong>
 dienstags 09:30-10:30</strong></p><p>wie oft:  5 termine</p><p>preis:     €
  65,-</p><p>wo:       therapie in breitensee breitenseerstr. 20-22/6, 1140 
 wien</p></div></div><div class="layoutArea"><div class="column"><p>melde di
 ch einfach bei mir julia (0660-629 71 01) oder unter <a href="mailto:traini
 ng@hagju.com">training@hagju.com</a> an.</p><p>ich freu mich schon auf den 
 kurs mit dir. </p><p>eure julia aka hag*ju<br /><a href="http://www.hagju.c
 om/">www.hagju.com</a> </p></div></div>
CONTACT:julia
X-EXTRAINFO:[preis='6500'][anmeldung='true']
DTSTAMP:20260423T182447
DTSTART:20190122T073000
DTEND:20190122T083000
SEQUENCE:0
RRULE:FREQ=WEEKLY;UNTIL=20190213T000000Z;INTERVAL=1;BYDAY=TU
TRANSP:OPAQUE
END:VEVENT
END:VCALENDAR