BEGIN:VCALENDAR
VERSION:2.0
PRODID:-//jEvents 2.0 for Joomla//EN
CALSCALE:GREGORIAN
METHOD:PUBLISH
BEGIN:VEVENT
UID:afe0b5d65fa592346cff3b73fe521198
CATEGORIES:6. Bezirk
CREATED:19700101T010000
SUMMARY:MasterMum Expert
LOCATION:Inner Peace\, Stumpergasse 48/23\, 1060 Wien
DESCRIPTION:MasterMum ExpertSelbstfürsorge und Intuitionstraining – für alle Mamas, die
  mit sich selbst, ihrem Frausein und ihrer weiblichen Kraft gut in Verbindu
 ng kommen möchten Beim zweiten Teil der MasterMum Kursreihe – MasterMum Exp
 ert – arbeiten wir gemeinsam zu folgenden Fragen: • Was macht mich eigentli
 ch aus?• Was sind meine Qualitäten? Als Frau, als Mama, als Partnerin?• Wie
  geht es mir mit meiner Weiblichkeit?• Höre ich schon auf mein Bauchgefühl?
 • Kann ich meiner Intuition vertrauen?• Wo brauche ich noch mehr Leichtigke
 it in meinem Leben?• Wo stecke ich noch in meiner Komfortzone fest, weil ic
 h Angst habe?• Welche Herzenswünsche, Träume, Visionen und Ziele habe ich?•
  Was hält mich noch zurück, sie zu realisieren?• Welche Sehnsucht gibt es n
 och in mir?• Wo lebe ich noch das Leben, das andere von mir erwarten, statt
  meinen eigenen Weg ganz authentisch zu gehen?  An 4 Abenden hast du Zeit u
 nd Raum, zu diesen Themen einmal ganz genau in dich hinein zu spüren. Ich b
 egleite dich mit meiner Expertise und verschiedenen Methoden und unterstütz
 e dich dabei, vorhandene Blockaden zu lösen. Damit du mit viel Mut, Klarhei
 t, Leichtigkeit und Lebensfreude dein Leben so leben kannst, wie es dir gan
 z entspricht! Bist du dazu bereit? Dann nimm dich und deine Bedürfnisse wic
 htig und sei dabei! Termine: 19.2.2019, 5.3.2019, 19.3.2019, 2.4.2019Die 4 
 Abende sind nur als Einheit buchbar Anmeldung unter info@mastermum.at (mail
 to:info@mastermum.at) oder 0650/8010147Infos unter: www.mastermum.at Kosten
  für 4 Abende + Unterlagen: 200 €Max. 6 Teilnehmerinnen\nIch freu mich auf 
 dich!
X-ALT-DESC;FMTTYPE=text/html:<div class="_63eu _63ev"><div class="" data-block="true" data-editor="7ia62
 " data-offset-key="bu4cf-0-0"><h1 class="_1mf _1mj" data-offset-key="bu4cf-
 0-0"><strong>MasterMum Expert</strong></h1><h4 class="_1mf _1mj" data-offse
 t-key="bu4cf-0-0"><strong>Selbstfürsorge und Intuitionstraining – für alle 
 Mamas, die mit sich selbst, ihrem Frausein und ihrer weiblichen Kraft gut i
 n Verbindung kommen möchten</strong> </h4></div><div class="" data-block="t
 rue" data-editor="7ia62" data-offset-key="726fq-0-0"><div class="_1mf _1mj"
  data-offset-key="726fq-0-0">Beim zweiten Teil der MasterMum Kursreihe – <s
 trong>MasterMum Expert </strong>– arbeiten wir gemeinsam zu folgenden Frage
 n:</div></div><div class="" data-block="true" data-editor="7ia62" data-offs
 et-key="68cp7-0-0"><div data-offset-key="68cp7-0-0"> </div></div><div class
 ="" data-block="true" data-editor="7ia62" data-offset-key="aj2rl-0-0"><div 
 class="_1mf _1mj" data-offset-key="aj2rl-0-0"><span data-offset-key="aj2rl-
 0-0">•<strong> Was macht mich eigentlich aus?</strong></span></div></div><d
 iv class="" data-block="true" data-editor="7ia62" data-offset-key="9694p-0-
 0"><div class="_1mf _1mj" data-offset-key="9694p-0-0"><strong>• Was sind me
 ine Qualitäten? Als Frau, als Mama, als Partnerin?</strong></div></div><div
  class="" data-block="true" data-editor="7ia62" data-offset-key="496l-0-0">
 <div class="_1mf _1mj" data-offset-key="496l-0-0"><strong>• Wie geht es mir
  mit meiner Weiblichkeit?</strong></div></div><div class="" data-block="tru
 e" data-editor="7ia62" data-offset-key="25ark-0-0"><div class="_1mf _1mj" d
 ata-offset-key="25ark-0-0"><strong>• Höre ich schon auf mein Bauchgefühl?</
 strong></div></div><div class="" data-block="true" data-editor="7ia62" data
 -offset-key="45b3t-0-0"><div class="_1mf _1mj" data-offset-key="45b3t-0-0">
 <strong>• Kann ich meiner Intuition vertrauen?</strong></div></div><div cla
 ss="" data-block="true" data-editor="7ia62" data-offset-key="dmal5-0-0"><di
 v class="_1mf _1mj" data-offset-key="dmal5-0-0"><strong>• Wo brauche ich no
 ch mehr Leichtigkeit in meinem Leben?</strong></div></div><div class="" dat
 a-block="true" data-editor="7ia62" data-offset-key="3nqgn-0-0"><div class="
 _1mf _1mj" data-offset-key="3nqgn-0-0"><strong>• Wo stecke ich noch in mein
 er Komfortzone fest, weil ich Angst habe?</strong></div></div><div class=""
  data-block="true" data-editor="7ia62" data-offset-key="2speq-0-0"><div cla
 ss="_1mf _1mj" data-offset-key="2speq-0-0"><strong>• Welche Herzenswünsche,
  Träume, Visionen und Ziele habe ich?</strong></div></div><div class="" dat
 a-block="true" data-editor="7ia62" data-offset-key="fv4n4-0-0"><div class="
 _1mf _1mj" data-offset-key="fv4n4-0-0"><strong>• Was hält mich noch zurück,
  sie zu realisieren?</strong></div></div><div class="" data-block="true" da
 ta-editor="7ia62" data-offset-key="1s4uf-0-0"><div class="_1mf _1mj" data-o
 ffset-key="1s4uf-0-0"><strong>• Welche Sehnsucht gibt es noch in mir?</stro
 ng></div></div><div class="" data-block="true" data-editor="7ia62" data-off
 set-key="2lder-0-0"><div class="_1mf _1mj" data-offset-key="2lder-0-0"><str
 ong>• Wo lebe ich noch das Leben, das andere von mir erwarten, statt meinen
  eigenen Weg ganz authentisch zu gehen?</strong></div></div><div class="" d
 ata-block="true" data-editor="7ia62" data-offset-key="9v851-0-0"><div class
 ="_1mf _1mj" data-offset-key="9v851-0-0"><span data-offset-key="9v851-0-0">
  </span></div></div><div class="" data-block="true" data-editor="7ia62" dat
 a-offset-key="6a3sc-0-0"><div class="_1mf _1mj" data-offset-key="6a3sc-0-0"
 ><span data-offset-key="6a3sc-0-0"> </span></div></div><div class="" data-b
 lock="true" data-editor="7ia62" data-offset-key="d0tct-0-0"><div class="_1m
 f _1mj" data-offset-key="d0tct-0-0"><span data-offset-key="d0tct-0-0">An 4 
 Abenden hast du Zeit und Raum, zu diesen Themen einmal ganz genau in dich h
 inein zu spüren. Ich begleite dich mit meiner Expertise und verschiedenen M
 ethoden und unterstütze dich dabei, vorhandene Blockaden zu lösen.</span></
 div></div><div class="" data-block="true" data-editor="7ia62" data-offset-k
 ey="2jt9u-0-0"> </div><div class="" data-block="true" data-editor="7ia62" d
 ata-offset-key="3ci7b-0-0"><div class="_1mf _1mj" data-offset-key="3ci7b-0-
 0"><span data-offset-key="3ci7b-0-0">Damit du mit viel Mut, Klarheit, Leich
 tigkeit und Lebensfreude dein Leben so leben kannst, wie es dir ganz entspr
 icht!</span></div></div><div class="" data-block="true" data-editor="7ia62"
  data-offset-key="46hpq-0-0"> </div><div class="" data-block="true" data-ed
 itor="7ia62" data-offset-key="6sa0i-0-0"><h4 class="_1mf _1mj" data-offset-
 key="6sa0i-0-0"><strong>Bist du dazu bereit? Dann nimm dich und deine Bedür
 fnisse wichtig und sei dabei!</strong></h4></div></div><div data-offset-key
 ="d07i7-0-0"> </div><div class="_1mf _1mj" data-offset-key="d07i7-0-0"><str
 ong>Termine: 19.2.2019, 5.3.2019, 19.3.2019, 2.4.2019</strong></div><div cl
 ass="_63eu _63ev"><div class="" data-block="true" data-editor="7ia62" data-
 offset-key="763ir-0-0"><div class="_1mf _1mj" data-offset-key="763ir-0-0"><
 span data-offset-key="763ir-0-0">Die 4 Abende sind nur als Einheit buchbar<
 /span></div><div class="_1mf _1mj" data-offset-key="763ir-0-0"> </div></div
 ><div class="" data-block="true" data-editor="7ia62" data-offset-key="1d93b
 -0-0"><div class="_1mf _1mj" data-offset-key="1d93b-0-0"><span data-offset-
 key="1d93b-0-0"><strong>Anmeldung unter <a href="mailto:info@mastermum.at">
 info@mastermum.at</a> </strong>oder 0650/8010147</span></div><div class="_1
 mf _1mj" data-offset-key="1d93b-0-0"><span data-offset-key="1d93b-0-0">Info
 s unter: www.mastermum.at</span></div></div><div class="" data-block="true"
  data-editor="7ia62" data-offset-key="9e7s3-0-0"> </div><div class="" data-
 block="true" data-editor="7ia62" data-offset-key="eekdh-0-0"><div class="_1
 mf _1mj" data-offset-key="eekdh-0-0"><span data-offset-key="eekdh-0-0">Kost
 en für 4 Abende + Unterlagen: 200 €</span></div></div><p>Max. 6 Teilnehmeri
 nnen</p><h4>Ich freu mich auf dich!</h4></div>
CONTACT:info@mastermum.at
X-EXTRAINFO:[preis='20000'][anmeldung='true']
DTSTAMP:20260423T152714
DTSTART:20180219T170000
DTEND:20181126T190000
SEQUENCE:0
RRULE:FREQ=WEEKLY;UNTIL=20190403T000000Z;INTERVAL=8;BYDAY=MO
TRANSP:OPAQUE
END:VEVENT
END:VCALENDAR