BEGIN:VCALENDAR
VERSION:2.0
PRODID:-//jEvents 2.0 for Joomla//EN
CALSCALE:GREGORIAN
METHOD:PUBLISH
BEGIN:VEVENT
UID:d8004a11739a06857255229a455df9a1
CATEGORIES:6. Bezirk
CREATED:20181126T112608
SUMMARY:Komm deinen Glaubenssätzen auf die Spur!
LOCATION:Inner Peace\, Stumpergasse 48/23\, 1060 Wien
DESCRIPTION:Komm deinen Glaubenssätzen auf die Spur!"Nur du entscheidest über deine Ged
 anken"\n - Begleiten dich ständig Sätze wie „Dafür bin ich nicht gut genug?
 “\n - Oder: „Alle anderen sind besser als ich?“?\n - Glaubst du z.B., dass 
 du „alles alleine schaffen musst“?\n - Möchtest du dich endlich von diesen 
 oder anderen blockierenden Glaubenssätzen verabschieden?An diesem Vormittag
  kommen wir gemeinsam deinen einschränkenden Glaubenssätzen auf die Spur. D
 u lernst mit einfachen Tools aus dem Mentaltraining und der Mentalfeldtechn
 ik, wie du sie selbst verändern kannst, um zu mehr Leichtigkeit, Lebensfreu
 de und Selbstvertrauen zu kommen und deine Ziele zu erreichen!\nMöchtest du
  auch dabei sein?Dann melde dich bitte unter info@mastermum.at an oder tele
 fonisch unter 0650/8010147. Mehr Infos auch auf www.mastermum.at (http://ww
 w.mastermum.at)\nWorkshopbeitrag: 45 €\n \n \n
X-ALT-DESC;FMTTYPE=text/html:<h1><strong>Komm deinen Glaubenssätzen auf die Spur!</strong></h1><h4><stro
 ng>"Nur du entscheidest über deine Gedanken"</strong></h4><ul><li><strong>B
 egleiten dich ständig Sätze wie „Dafür bin ich nicht gut genug?“</strong></
 li><li><strong>Oder: „Alle anderen sind besser als ich?“?</strong></li><li>
 <strong>Glaubst du z.B., dass du „alles alleine schaffen musst“?</strong></
 li><li><strong>Möchtest du dich endlich von diesen oder anderen blockierend
 en Glaubenssätzen verabschieden?</strong></li></ul><p>An diesem Vormittag k
 ommen wir gemeinsam deinen einschränkenden Glaubenssätzen auf die Spur. Du 
 lernst mit einfachen Tools aus dem <strong>Mentaltraining</strong> und der 
 <strong>Mentalfeldtechnik</strong>, wie du sie selbst verändern kannst, um 
 zu <strong>mehr Leichtigkeit, Lebensfreude und Selbstvertrauen</strong> zu 
 kommen und deine Ziele zu erreichen!</p><h4>Möchtest du auch dabei sein?</h
 4><p>Dann melde dich bitte unter info@mastermum.at an oder telefonisch unte
 r 0650/8010147. Mehr Infos auch auf <a href="http://www.mastermum.at">www.m
 astermum.at</a></p><p>Workshopbeitrag: 45 €</p><p> </p><p> </p>
CONTACT:info@mastermum.at
X-EXTRAINFO:[preis='4500'][anmeldung='true']
DTSTAMP:20260423T165624
DTSTART:20190117T090000
DTEND:20190117T110000
SEQUENCE:0
TRANSP:OPAQUE
END:VEVENT
END:VCALENDAR