BEGIN:VCALENDAR
VERSION:2.0
PRODID:-//jEvents 2.0 for Joomla//EN
CALSCALE:GREGORIAN
METHOD:PUBLISH
BEGIN:VEVENT
UID:9a50e263ee149efae75e33513e9e9f82
CATEGORIES:7. Bezirk
CREATED:19700101T010000
SUMMARY:Tanzkurs ab einem Jahr
LOCATION:Kinderatelier\, Neubaugürtel 7
DESCRIPTION:<h3>TANZ UND SPIEL FÜR ELTERN UND KINDER VON 1 BIS 3 JAHREN</h3><div class=
 "gap"> </div><p>……sich miteinander unter Tüchern verstecken, auf großen Bäl
 len rollen, miteinander kugeln, purzeln und schaukeln, mit Luftballons spie
 len, Kisten durch den Raum schieben, im Konfettiregen sitzen, Rhythmus und 
 Musik erleben, und das alles nicht allein, sondern in der Geborgenheit eine
 r vertrauten Gruppe.</p><p>Kursleitung: Susanna Garic</p>
CONTACT:office@kinderatelier.at
X-EXTRAINFO:[preis='13000'][anmeldung='true']
DTSTAMP:20260425T203146
DTSTART:20181109T090000
DTEND:20181109T103000
SEQUENCE:0
RRULE:FREQ=WEEKLY;COUNT=10;INTERVAL=1;BYDAY=FR
EXDATE:20190104T090000,20181228T090000
TRANSP:OPAQUE
END:VEVENT
END:VCALENDAR