BEGIN:VCALENDAR
VERSION:2.0
PRODID:-//jEvents 2.0 for Joomla//EN
CALSCALE:GREGORIAN
METHOD:PUBLISH
BEGIN:VEVENT
UID:c9c239d14df97c1b5038c5b32d99091f
CATEGORIES:2. Bezirk
CREATED:19700101T010000
SUMMARY:BabySHIATSU Kurs (0-6 Monate)
LOCATION:Wohnprojekt Wien\, Krakauer Straße 19\, 1020 Wien
DESCRIPTION:<p>BabyShiatsu ist eine ganz wunderbare Möglichkeit gemeinsam mit dem Baby 
 zur Ruhe zu finden, ihm berührend nah zu sein und ungeteilte Aufmerksamkeit
  zu schenken.</p><p>Wir lernen sanfte Berührung &amp; Drücken - die Technik
  haben eine lange Tradition in Japan und werden ergänzt mit Erkenntnissen u
 nserer westlichen Welt.</p><p> </p><p><strong>Wirkungen</strong>:</p><p>- S
 tärkung der Eltern-Kind-Bindung</p><p>- Unterstützung bei Wehwehchen wie Bl
 ähungen, Zahnen, Unruhe &amp; Schreiphasen</p><p>- Stärkung des Immunsystem
 s</p><p> </p><p>Achtsames Berühren und Hinspüren wird so ein stückweit zur 
 Selbstverständlichkeit im alltäglichen Miteinandern.</p><p> </p><p><strong>
 Anmeldung und Info:</strong></p><p><a href="http://www.shiatsufuerzwei.at">
 www.shiatsufuerzwei.at</a></p>
CONTACT:isabell@shiatsufuerzwei.at oder 0670 20 44 155
X-EXTRAINFO:[preis='9000'][anmeldung='true']
DTSTAMP:20260423T182710
DTSTART:20190109T100000
DTEND:20190109T110000
SEQUENCE:0
RRULE:FREQ=WEEKLY;COUNT=9999;INTERVAL=1;BYDAY=WE,WE,WE,WE,WE
TRANSP:OPAQUE
END:VEVENT
END:VCALENDAR